BEGIN:VCALENDAR
VERSION:2.0
PRODID:-//SpacePolicyOnline.com - ECPv6.15.11//NONSGML v1.0//EN
CALSCALE:GREGORIAN
METHOD:PUBLISH
X-WR-CALNAME:SpacePolicyOnline.com
X-ORIGINAL-URL:https://spacepolicyonline.com
X-WR-CALDESC:Events for SpacePolicyOnline.com
REFRESH-INTERVAL;VALUE=DURATION:PT1H
X-Robots-Tag:noindex
X-PUBLISHED-TTL:PT1H
BEGIN:VTIMEZONE
TZID:America/New_York
BEGIN:DAYLIGHT
TZOFFSETFROM:-0500
TZOFFSETTO:-0400
TZNAME:EDT
DTSTART:20220313T070000
END:DAYLIGHT
BEGIN:STANDARD
TZOFFSETFROM:-0400
TZOFFSETTO:-0500
TZNAME:EST
DTSTART:20221106T060000
END:STANDARD
BEGIN:DAYLIGHT
TZOFFSETFROM:-0500
TZOFFSETTO:-0400
TZNAME:EDT
DTSTART:20230312T070000
END:DAYLIGHT
BEGIN:STANDARD
TZOFFSETFROM:-0400
TZOFFSETTO:-0500
TZNAME:EST
DTSTART:20231105T060000
END:STANDARD
BEGIN:DAYLIGHT
TZOFFSETFROM:-0500
TZOFFSETTO:-0400
TZNAME:EDT
DTSTART:20240310T070000
END:DAYLIGHT
BEGIN:STANDARD
TZOFFSETFROM:-0400
TZOFFSETTO:-0500
TZNAME:EST
DTSTART:20241103T060000
END:STANDARD
END:VTIMEZONE
BEGIN:VEVENT
DTSTART;TZID=America/New_York:20231221T163000
DTEND;TZID=America/New_York:20231221T230000
DTSTAMP:20260420T010744
CREATED:20231216T194834Z
LAST-MODIFIED:20231221T050617Z
UID:67348-1703176200-1703199600@spacepolicyonline.com
SUMMARY:RETURN OF SPX-29 CARGO MISSION FROM ISS\, Dec 21\, 2023\, undocking 5:05 pm ET (NASA TV begins 4:45 pm ET)
DESCRIPTION:Update\, December 20:  Another delay due to weather. They now are targeting December 21 at 5:05 pm ET.  NASA TV coverage will begin at 4:45 pm ET. \nUpdate\, December 19: The time has changed to 9:05 pm ET.  NASA TV coverage begins at 8:45 pm ET. \nUpdate\, December 17:  Another postponement\, again due to Florida weather. Now targeting December 20. Same undocking time: 5:05 pm ET. \nUpdate December 16:  The undocking has been postponed yet another day\, to Tuesday\, December 19\, because of continued bad weather in Florida.  The time remains the same. \nOriginal entry: As of December 15\, 2023\, NASA and SpaceX planned to undock the SpX-29 Cargo Dragon spacecraft from the International Space Station on December 18\, 2023 at 5:05 pm ET.  NASA TV coverage begins at 4:45 pm ET. \nSpX-29’s return has been delayed day by day since Thursday because of bad weather in Florida. This is the one ISS cargo vehicle ISS that not only delivers supplies to the ISS\, but  can return materials to Earth. It splashes down in the ocean off the east or west coast of Florida so weather conditions must be suitable. \nNASA TV covers the spacecraft’s undocking\, but there is no live coverage of the deorbit burn or splashdown. \nCheck NASA’s ISS blog for updates in case there are further delays.
URL:https://spacepolicyonline.com/events/return-of-spx-29-cargo-mission-from-iss-dec-18-2023-undocking-505-pm-et/
END:VEVENT
END:VCALENDAR