BEGIN:VCALENDAR
VERSION:2.0
PRODID:-//SpacePolicyOnline.com - ECPv6.15.11//NONSGML v1.0//EN
CALSCALE:GREGORIAN
METHOD:PUBLISH
X-WR-CALNAME:SpacePolicyOnline.com
X-ORIGINAL-URL:https://spacepolicyonline.com
X-WR-CALDESC:Events for SpacePolicyOnline.com
REFRESH-INTERVAL;VALUE=DURATION:PT1H
X-Robots-Tag:noindex
X-PUBLISHED-TTL:PT1H
BEGIN:VTIMEZONE
TZID:America/New_York
BEGIN:DAYLIGHT
TZOFFSETFROM:-0500
TZOFFSETTO:-0400
TZNAME:EDT
DTSTART:20200308T070000
END:DAYLIGHT
BEGIN:STANDARD
TZOFFSETFROM:-0400
TZOFFSETTO:-0500
TZNAME:EST
DTSTART:20201101T060000
END:STANDARD
BEGIN:DAYLIGHT
TZOFFSETFROM:-0500
TZOFFSETTO:-0400
TZNAME:EDT
DTSTART:20210314T070000
END:DAYLIGHT
BEGIN:STANDARD
TZOFFSETFROM:-0400
TZOFFSETTO:-0500
TZNAME:EST
DTSTART:20211107T060000
END:STANDARD
BEGIN:DAYLIGHT
TZOFFSETFROM:-0500
TZOFFSETTO:-0400
TZNAME:EDT
DTSTART:20220313T070000
END:DAYLIGHT
BEGIN:STANDARD
TZOFFSETFROM:-0400
TZOFFSETTO:-0500
TZNAME:EST
DTSTART:20221106T060000
END:STANDARD
END:VTIMEZONE
BEGIN:VEVENT
DTSTART;TZID=America/New_York:20210311T220000
DTEND;TZID=America/New_York:20210311T230000
DTSTAMP:20260419T232741
CREATED:20210309T213150Z
LAST-MODIFIED:20210309T213150Z
UID:42182-1615500000-1615503600@spacepolicyonline.com
SUMMARY:ROVING MARS: FROM SOJOURNER TO PERSEVERANCE\, WITH WENDY CALVIN\, Mar 11\, 2021\, virtual\, 10:00 pm ET
DESCRIPTION:Wendy Calvin\, University of Nevada\, Reno Foundation Professor and chair of the Department of Geological Sciences and Engineering\, will present a virtual lecture on March 11\, 2021 at 7:00 pm Pacific Time (10:00 pm Eastern). \nHer topic is “Roving Mars: From Sojourner to Perseverance.”  The talk is part of the Discover Science Lecture Series. \nMore information is on the event’s website.  Advance registration is required. \n 
URL:https://spacepolicyonline.com/events/roving-mars-from-sojourner-to-perseverance-with-wendy-calvin-mar-11-2021-virtual-1000-pm-et/
END:VEVENT
END:VCALENDAR