BEGIN:VCALENDAR
VERSION:2.0
PRODID:-//SpacePolicyOnline.com - ECPv6.15.11//NONSGML v1.0//EN
CALSCALE:GREGORIAN
METHOD:PUBLISH
X-WR-CALNAME:SpacePolicyOnline.com
X-ORIGINAL-URL:https://spacepolicyonline.com
X-WR-CALDESC:Events for SpacePolicyOnline.com
REFRESH-INTERVAL;VALUE=DURATION:PT1H
X-Robots-Tag:noindex
X-PUBLISHED-TTL:PT1H
BEGIN:VTIMEZONE
TZID:America/New_York
BEGIN:DAYLIGHT
TZOFFSETFROM:-0500
TZOFFSETTO:-0400
TZNAME:EDT
DTSTART:20220313T070000
END:DAYLIGHT
BEGIN:STANDARD
TZOFFSETFROM:-0400
TZOFFSETTO:-0500
TZNAME:EST
DTSTART:20221106T060000
END:STANDARD
BEGIN:DAYLIGHT
TZOFFSETFROM:-0500
TZOFFSETTO:-0400
TZNAME:EDT
DTSTART:20230312T070000
END:DAYLIGHT
BEGIN:STANDARD
TZOFFSETFROM:-0400
TZOFFSETTO:-0500
TZNAME:EST
DTSTART:20231105T060000
END:STANDARD
BEGIN:DAYLIGHT
TZOFFSETFROM:-0500
TZOFFSETTO:-0400
TZNAME:EDT
DTSTART:20240310T070000
END:DAYLIGHT
BEGIN:STANDARD
TZOFFSETFROM:-0400
TZOFFSETTO:-0500
TZNAME:EST
DTSTART:20241103T060000
END:STANDARD
END:VTIMEZONE
BEGIN:VEVENT
DTSTART;TZID=America/New_York:20230821T080000
DTEND;TZID=America/New_York:20230821T230000
DTSTAMP:20260420T053243
CREATED:20230812T171040Z
LAST-MODIFIED:20230820T150844Z
UID:64075-1692604800-1692658800@spacepolicyonline.com
SUMMARY:RUSSIA'S LUNA-25 LANDS ON THE MOON\, Aug  2023\, the Moon
DESCRIPTION:Update\, August 20:  Roscosmos reported that Luna-25 crashed into the Moon because of whatever happened yesterday. An investigation is underway. \nUpdate\, August 19:  Roscosmos reported an anomaly with Luna-25 today and it is not clear if they still expect to land on August 21. It seems unlikely. We will post any updates we get here. \nOriginal Entry: Russia’s Luna-25 is currently scheduled to land on the Moon on August 21\, 2023 according to the Russia’s TASS news agency. \nThe time was not specified and it could be the landing will be August 20 EDT\, which is 7 hours behind Moscow Time. \nThe date could also change. We will post any updates we get on this website.
URL:https://spacepolicyonline.com/events/russias-luna-25-lands-on-the-moon-aug-25-2023-the-moon/
END:VEVENT
END:VCALENDAR