BEGIN:VCALENDAR
VERSION:2.0
PRODID:-//SpacePolicyOnline.com - ECPv6.15.11//NONSGML v1.0//EN
CALSCALE:GREGORIAN
METHOD:PUBLISH
X-WR-CALNAME:SpacePolicyOnline.com
X-ORIGINAL-URL:https://spacepolicyonline.com
X-WR-CALDESC:Events for SpacePolicyOnline.com
REFRESH-INTERVAL;VALUE=DURATION:PT1H
X-Robots-Tag:noindex
X-PUBLISHED-TTL:PT1H
BEGIN:VTIMEZONE
TZID:America/New_York
BEGIN:DAYLIGHT
TZOFFSETFROM:-0500
TZOFFSETTO:-0400
TZNAME:EDT
DTSTART:20240310T070000
END:DAYLIGHT
BEGIN:STANDARD
TZOFFSETFROM:-0400
TZOFFSETTO:-0500
TZNAME:EST
DTSTART:20241103T060000
END:STANDARD
BEGIN:DAYLIGHT
TZOFFSETFROM:-0500
TZOFFSETTO:-0400
TZNAME:EDT
DTSTART:20250309T070000
END:DAYLIGHT
BEGIN:STANDARD
TZOFFSETFROM:-0400
TZOFFSETTO:-0500
TZNAME:EST
DTSTART:20251102T060000
END:STANDARD
BEGIN:DAYLIGHT
TZOFFSETFROM:-0500
TZOFFSETTO:-0400
TZNAME:EDT
DTSTART:20260308T070000
END:DAYLIGHT
BEGIN:STANDARD
TZOFFSETFROM:-0400
TZOFFSETTO:-0500
TZNAME:EST
DTSTART:20261101T060000
END:STANDARD
END:VTIMEZONE
BEGIN:VEVENT
DTSTART;TZID=America/New_York:20250501T093000
DTEND;TZID=America/New_York:20250501T230000
DTSTAMP:20260419T183516
CREATED:20250426T204050Z
LAST-MODIFIED:20250426T204130Z
UID:80478-1746091800-1746140400@spacepolicyonline.com
SUMMARY:SASC HEARING ON MATTHEW LOHMEIER'S NOMINATION TO BE AF UNDER SECRETARY\, May 1\, 2025\, DC\, 9:30 am ET
DESCRIPTION:The Senate Armed Services Committee (SASC) will hold a hearing on May 1\, 2025 at 9:30 am ET in SD-G50 Dirksen Senate Office Building on the nomination of Matthew Lohmeier to be Under Secretary of the Air Force. \nThe hearing will be webcast. \nThe committee will consider the nominations of two others at the same time: \n\nJustin Overbaugh to be Deputy Under Secretary of Defense for Intelligence and Security\, and\nDaniel Zimmerman to be Assistant Secretary of Defense for International Security Affairs.
URL:https://spacepolicyonline.com/events/sasc-hearing-on-matthew-lohmeiers-nomination-to-be-af-under-secretary-may-1-2025-dc-930-am-et/
END:VEVENT
END:VCALENDAR