BEGIN:VCALENDAR
VERSION:2.0
PRODID:-//SpacePolicyOnline.com - ECPv6.15.11//NONSGML v1.0//EN
CALSCALE:GREGORIAN
METHOD:PUBLISH
X-WR-CALNAME:SpacePolicyOnline.com
X-ORIGINAL-URL:https://spacepolicyonline.com
X-WR-CALDESC:Events for SpacePolicyOnline.com
REFRESH-INTERVAL;VALUE=DURATION:PT1H
X-Robots-Tag:noindex
X-PUBLISHED-TTL:PT1H
BEGIN:VTIMEZONE
TZID:America/New_York
BEGIN:DAYLIGHT
TZOFFSETFROM:-0500
TZOFFSETTO:-0400
TZNAME:EDT
DTSTART:20200308T070000
END:DAYLIGHT
BEGIN:STANDARD
TZOFFSETFROM:-0400
TZOFFSETTO:-0500
TZNAME:EST
DTSTART:20201101T060000
END:STANDARD
BEGIN:DAYLIGHT
TZOFFSETFROM:-0500
TZOFFSETTO:-0400
TZNAME:EDT
DTSTART:20210314T070000
END:DAYLIGHT
BEGIN:STANDARD
TZOFFSETFROM:-0400
TZOFFSETTO:-0500
TZNAME:EST
DTSTART:20211107T060000
END:STANDARD
BEGIN:DAYLIGHT
TZOFFSETFROM:-0500
TZOFFSETTO:-0400
TZNAME:EDT
DTSTART:20220313T070000
END:DAYLIGHT
BEGIN:STANDARD
TZOFFSETFROM:-0400
TZOFFSETTO:-0500
TZNAME:EST
DTSTART:20221106T060000
END:STANDARD
END:VTIMEZONE
BEGIN:VEVENT
DTSTART;TZID=America/New_York:20210202T093000
DTEND;TZID=America/New_York:20210202T230000
DTSTAMP:20260419T180240
CREATED:20210131T150554Z
LAST-MODIFIED:20210131T150554Z
UID:41139-1612258200-1612306800@spacepolicyonline.com
SUMMARY:SASC HRG ON KATHLEEN HICKS NOMINATION TO BE DEPSECDEF\, Feb 2\, 2021\, DC/virtual\, 9:30 am ET
DESCRIPTION:The Senate Armed Services Committee (SASC) will hold a hearing on the nomination of Kathleen Hicks to be Deputy Secretary of Defense (DepSecDef) on February 2\, 2021 at 9:30 am ET. The hearing will take place in G-50 Dirksen Senate Office Building\, but virtual participation is allowed. \nThe Capitol Complex remains closed to the public due to COVID-19.  Watch the hearing on the committee’s website.
URL:https://spacepolicyonline.com/events/sasc-hrg-on-kathleen-hicks-nomination-to-be-depsecdef-feb-2-2021-dc-virtual-930-am-et/
END:VEVENT
END:VCALENDAR