BEGIN:VCALENDAR
VERSION:2.0
PRODID:-//SpacePolicyOnline.com - ECPv6.15.11//NONSGML v1.0//EN
CALSCALE:GREGORIAN
METHOD:PUBLISH
X-WR-CALNAME:SpacePolicyOnline.com
X-ORIGINAL-URL:https://spacepolicyonline.com
X-WR-CALDESC:Events for SpacePolicyOnline.com
REFRESH-INTERVAL;VALUE=DURATION:PT1H
X-Robots-Tag:noindex
X-PUBLISHED-TTL:PT1H
BEGIN:VTIMEZONE
TZID:America/New_York
BEGIN:DAYLIGHT
TZOFFSETFROM:-0500
TZOFFSETTO:-0400
TZNAME:EDT
DTSTART:20200308T070000
END:DAYLIGHT
BEGIN:STANDARD
TZOFFSETFROM:-0400
TZOFFSETTO:-0500
TZNAME:EST
DTSTART:20201101T060000
END:STANDARD
BEGIN:DAYLIGHT
TZOFFSETFROM:-0500
TZOFFSETTO:-0400
TZNAME:EDT
DTSTART:20210314T070000
END:DAYLIGHT
BEGIN:STANDARD
TZOFFSETFROM:-0400
TZOFFSETTO:-0500
TZNAME:EST
DTSTART:20211107T060000
END:STANDARD
BEGIN:DAYLIGHT
TZOFFSETFROM:-0500
TZOFFSETTO:-0400
TZNAME:EDT
DTSTART:20220313T070000
END:DAYLIGHT
BEGIN:STANDARD
TZOFFSETFROM:-0400
TZOFFSETTO:-0500
TZNAME:EST
DTSTART:20221106T060000
END:STANDARD
END:VTIMEZONE
BEGIN:VEVENT
DTSTART;TZID=America/New_York:20210304T093000
DTEND;TZID=America/New_York:20210304T230000
DTSTAMP:20260419T214020
CREATED:20210227T200138Z
LAST-MODIFIED:20210227T200930Z
UID:41950-1614850200-1614898800@spacepolicyonline.com
SUMMARY:SASC HRG ON NOM OF COLIN H. KAHL TO BE UNDER SEC OF DEF FOR POLICY\, Mar 4\, 2021\, DC\, 9:30 am ET
DESCRIPTION:The Senate Armed Services Committee (SASC) will hold a hearing on March 4\, 2021 at 9:30 am ET in 106 Dirksen Senate Office Building on the nomination of Colin Kahl to be Under Secretary of Defense for Policy. \nThe hearing will be webcast on the committee’s website.  The Capitol Complex remains closed to the public due to COVID-19.
URL:https://spacepolicyonline.com/events/sasc-hrg-on-nom-of-colin-h-kahl-to-be-under-sec-of-def-for-policy-mar-4-2021-dc-930-am-et/
END:VEVENT
END:VCALENDAR