BEGIN:VCALENDAR
VERSION:2.0
PRODID:-//SpacePolicyOnline.com - ECPv6.15.11//NONSGML v1.0//EN
CALSCALE:GREGORIAN
METHOD:PUBLISH
X-WR-CALNAME:SpacePolicyOnline.com
X-ORIGINAL-URL:https://spacepolicyonline.com
X-WR-CALDESC:Events for SpacePolicyOnline.com
REFRESH-INTERVAL;VALUE=DURATION:PT1H
X-Robots-Tag:noindex
X-PUBLISHED-TTL:PT1H
BEGIN:VTIMEZONE
TZID:America/New_York
BEGIN:DAYLIGHT
TZOFFSETFROM:-0500
TZOFFSETTO:-0400
TZNAME:EDT
DTSTART:20250309T070000
END:DAYLIGHT
BEGIN:STANDARD
TZOFFSETFROM:-0400
TZOFFSETTO:-0500
TZNAME:EST
DTSTART:20251102T060000
END:STANDARD
BEGIN:DAYLIGHT
TZOFFSETFROM:-0500
TZOFFSETTO:-0400
TZNAME:EDT
DTSTART:20260308T070000
END:DAYLIGHT
BEGIN:STANDARD
TZOFFSETFROM:-0400
TZOFFSETTO:-0500
TZNAME:EST
DTSTART:20261101T060000
END:STANDARD
BEGIN:DAYLIGHT
TZOFFSETFROM:-0500
TZOFFSETTO:-0400
TZNAME:EDT
DTSTART:20270314T070000
END:DAYLIGHT
BEGIN:STANDARD
TZOFFSETFROM:-0400
TZOFFSETTO:-0500
TZNAME:EST
DTSTART:20271107T060000
END:STANDARD
END:VTIMEZONE
BEGIN:VEVENT
DTSTART;TZID=America/New_York:20260427T153000
DTEND;TZID=America/New_York:20260427T230000
DTSTAMP:20260424T173405
CREATED:20260424T190938Z
LAST-MODIFIED:20260424T191057Z
UID:88554-1777303800-1777330800@spacepolicyonline.com
SUMMARY:SASC SBCMT HRG ON MISSILE DEFENSE\, Apr 27\, 2026\, DC\, 3:30 pm ET
DESCRIPTION:The Senate Armed Services Committee’s Strategic Forces Subcommittee will hold a hearing on April 27\, 2026 at 3:30 pm ET in 222 Russell Senate Office Building on FY2027 Department of Defense Missile Defense Activities. \nThe hearing will be webcast on the committee’s website. \nWitnesses are: \n\nMark Berkowitz\, Assistant Secretary of Defense for Space Policy\nGen. Michael Guetlein (USSF)\, Direct Reporting Program Manager\, Golden Dome for America\nLt. Gen. Heath Collins (USAF)\, Director\, Missile Defense Agency\nLt. Gen. Francisco (Frank) Lozano\, Portfolio Acquisition Executive for Fires\, U.S. Army\n\n \n  \n 
URL:https://spacepolicyonline.com/events/sasc-sbcmt-hrg-on-missile-defense-apr-27-2026-dc-330-pm-et/
END:VEVENT
END:VCALENDAR