BEGIN:VCALENDAR
VERSION:2.0
PRODID:-//SpacePolicyOnline.com - ECPv6.15.11//NONSGML v1.0//EN
CALSCALE:GREGORIAN
METHOD:PUBLISH
X-WR-CALNAME:SpacePolicyOnline.com
X-ORIGINAL-URL:https://spacepolicyonline.com
X-WR-CALDESC:Events for SpacePolicyOnline.com
REFRESH-INTERVAL;VALUE=DURATION:PT1H
X-Robots-Tag:noindex
X-PUBLISHED-TTL:PT1H
BEGIN:VTIMEZONE
TZID:America/New_York
BEGIN:DAYLIGHT
TZOFFSETFROM:-0500
TZOFFSETTO:-0400
TZNAME:EDT
DTSTART:20200308T070000
END:DAYLIGHT
BEGIN:STANDARD
TZOFFSETFROM:-0400
TZOFFSETTO:-0500
TZNAME:EST
DTSTART:20201101T060000
END:STANDARD
BEGIN:DAYLIGHT
TZOFFSETFROM:-0500
TZOFFSETTO:-0400
TZNAME:EDT
DTSTART:20210314T070000
END:DAYLIGHT
BEGIN:STANDARD
TZOFFSETFROM:-0400
TZOFFSETTO:-0500
TZNAME:EST
DTSTART:20211107T060000
END:STANDARD
BEGIN:DAYLIGHT
TZOFFSETFROM:-0500
TZOFFSETTO:-0400
TZNAME:EDT
DTSTART:20220313T070000
END:DAYLIGHT
BEGIN:STANDARD
TZOFFSETFROM:-0400
TZOFFSETTO:-0500
TZNAME:EST
DTSTART:20221106T060000
END:STANDARD
END:VTIMEZONE
BEGIN:VEVENT
DTSTART;TZID=America/New_York:20211005T033000
DTEND;TZID=America/New_York:20211007T230000
DTSTAMP:20260420T235855
CREATED:20210905T155701Z
LAST-MODIFIED:20211003T181103Z
UID:46445-1633404600-1633647600@spacepolicyonline.com
SUMMARY:SATELLITE INNOVATION 2021\, Oct 5-7\, 2021\, Mountain View\, CA
DESCRIPTION:The Satellite Innovation 2021 conference will take place October 5-7\, 2021 at the Computer History Museum\, 1401 N. Shoreline Drive\, Mountain View\, CA.  A virtual option is offered on the registration site. \nThe agenda (in Pacific Time) is posted. \nMore information is on the event’s website.
URL:https://spacepolicyonline.com/events/satellite-innovation-2021-oct-5-7-2021-mountain-view-ca/
END:VEVENT
END:VCALENDAR