BEGIN:VCALENDAR
VERSION:2.0
PRODID:-//SpacePolicyOnline.com - ECPv6.15.11//NONSGML v1.0//EN
CALSCALE:GREGORIAN
METHOD:PUBLISH
X-WR-CALNAME:SpacePolicyOnline.com
X-ORIGINAL-URL:https://spacepolicyonline.com
X-WR-CALDESC:Events for SpacePolicyOnline.com
REFRESH-INTERVAL;VALUE=DURATION:PT1H
X-Robots-Tag:noindex
X-PUBLISHED-TTL:PT1H
BEGIN:VTIMEZONE
TZID:America/New_York
BEGIN:DAYLIGHT
TZOFFSETFROM:-0500
TZOFFSETTO:-0400
TZNAME:EDT
DTSTART:20230312T070000
END:DAYLIGHT
BEGIN:STANDARD
TZOFFSETFROM:-0400
TZOFFSETTO:-0500
TZNAME:EST
DTSTART:20231105T060000
END:STANDARD
BEGIN:DAYLIGHT
TZOFFSETFROM:-0500
TZOFFSETTO:-0400
TZNAME:EDT
DTSTART:20240310T070000
END:DAYLIGHT
BEGIN:STANDARD
TZOFFSETFROM:-0400
TZOFFSETTO:-0500
TZNAME:EST
DTSTART:20241103T060000
END:STANDARD
BEGIN:DAYLIGHT
TZOFFSETFROM:-0500
TZOFFSETTO:-0400
TZNAME:EDT
DTSTART:20250309T070000
END:DAYLIGHT
BEGIN:STANDARD
TZOFFSETFROM:-0400
TZOFFSETTO:-0500
TZNAME:EST
DTSTART:20251102T060000
END:STANDARD
END:VTIMEZONE
BEGIN:VEVENT
DTSTART;TZID=America/New_York:20240828T150000
DTEND;TZID=America/New_York:20240828T230000
DTSTAMP:20260421T012553
CREATED:20240818T161043Z
LAST-MODIFIED:20240818T161345Z
UID:73599-1724857200-1724886000@spacepolicyonline.com
SUMMARY:SCHRIEVER SPACEPOWER SERIES: USSPACECOM 5TH ANNIVERSARY EVENT (Mitchell Inst)\, Aug 28\, 2024\, virtual\, 3:00 pm ET
DESCRIPTION:The Mitchell Institute will hold the next Schriever Spacepower Series webinar on August 28\, 2024 at 3:00 pm ET (1:00 pm Mountain Time). The event will highlight the 5th anniversary of the reestablishment of U.S. Space Command. \nMore information is on the event’s website\, which says: \nWhen: August 28\, 2024 at 3:00 PM EDT/1:00 PM MDT\nWhere: Zoom \nJoin us LIVE from Peterson Space Force Base for an in-depth discussion with a panel of senior USSPACECOM leaders\, including Gen Whiting\, Commander; RADM Pennington\, Chief of Staff; and Air Commodore Whiteley\, the Deputy J5 to learn more about the progress the Command has made\, current priorities\, and future objectives. ​​​​​
URL:https://spacepolicyonline.com/events/schriever-spacepower-series-usspacecom-5th-anniversary-event-mitchell-inst-aug-28-2024-virtual-300-pm-et/
END:VEVENT
END:VCALENDAR