BEGIN:VCALENDAR
VERSION:2.0
PRODID:-//SpacePolicyOnline.com - ECPv6.15.11//NONSGML v1.0//EN
CALSCALE:GREGORIAN
METHOD:PUBLISH
X-WR-CALNAME:SpacePolicyOnline.com
X-ORIGINAL-URL:https://spacepolicyonline.com
X-WR-CALDESC:Events for SpacePolicyOnline.com
REFRESH-INTERVAL;VALUE=DURATION:PT1H
X-Robots-Tag:noindex
X-PUBLISHED-TTL:PT1H
BEGIN:VTIMEZONE
TZID:America/New_York
BEGIN:DAYLIGHT
TZOFFSETFROM:-0500
TZOFFSETTO:-0400
TZNAME:EDT
DTSTART:20240310T070000
END:DAYLIGHT
BEGIN:STANDARD
TZOFFSETFROM:-0400
TZOFFSETTO:-0500
TZNAME:EST
DTSTART:20241103T060000
END:STANDARD
BEGIN:DAYLIGHT
TZOFFSETFROM:-0500
TZOFFSETTO:-0400
TZNAME:EDT
DTSTART:20250309T070000
END:DAYLIGHT
BEGIN:STANDARD
TZOFFSETFROM:-0400
TZOFFSETTO:-0500
TZNAME:EST
DTSTART:20251102T060000
END:STANDARD
BEGIN:DAYLIGHT
TZOFFSETFROM:-0500
TZOFFSETTO:-0400
TZNAME:EDT
DTSTART:20260308T070000
END:DAYLIGHT
BEGIN:STANDARD
TZOFFSETFROM:-0400
TZOFFSETTO:-0500
TZNAME:EST
DTSTART:20261101T060000
END:STANDARD
END:VTIMEZONE
BEGIN:VEVENT
DTSTART;TZID=America/New_York:20250429T130000
DTEND;TZID=America/New_York:20250429T230000
DTSTAMP:20260419T182416
CREATED:20250419T205106Z
LAST-MODIFIED:20250419T205131Z
UID:80254-1745931600-1745967600@spacepolicyonline.com
SUMMARY:SCHRIEVER SPACEPOWER SERIES WITH SPACE SYSTEMS COMMAND'S CORDELL A. DELAPENA (Mitchell Inst)\, Apr 29\, 2025\, virtual\, 1:00 pm ET
DESCRIPTION:The Mitchell Institute will hold the next Schriever Spacepower Series webinar on April 29\, 2025 at 1:00 pm ET. \nThe guest is Cordell A. DeLaPena\, Space Systems Command’s program executive officer for military communications and PNT. \nMore information is on the event’s website\, which says: \nCentral to the fight for space superiority is the need to preserve access to critical space services such as communications and positioning\, navigation\, and timing (PNT). These foundational capabilities enable all military operations and are essential to our nation’s nuclear deterrence. \nThe Mitchell Institute is thrilled to welcome to the Schriever Spacepower Series Mr. Cordell DeLaPena\, the Program Executive Officer responsible for military communications and PNT. Mr. DeLaPena has a long history of excellence in acquisition and the delivery of unmatched space systems. He will provide deep insight on status and plans of his $22 billion communication and PNT portfolio and provide perspectives on the evolving space acquisition landscape.
URL:https://spacepolicyonline.com/events/schriever-spacepower-series-with-cordell-a-delapena-mitchell-inst-apr-29-2025-virtual-100-pm-et/
END:VEVENT
END:VCALENDAR