BEGIN:VCALENDAR
VERSION:2.0
PRODID:-//SpacePolicyOnline.com - ECPv6.15.11//NONSGML v1.0//EN
CALSCALE:GREGORIAN
METHOD:PUBLISH
X-WR-CALNAME:SpacePolicyOnline.com
X-ORIGINAL-URL:https://spacepolicyonline.com
X-WR-CALDESC:Events for SpacePolicyOnline.com
REFRESH-INTERVAL;VALUE=DURATION:PT1H
X-Robots-Tag:noindex
X-PUBLISHED-TTL:PT1H
BEGIN:VTIMEZONE
TZID:America/New_York
BEGIN:DAYLIGHT
TZOFFSETFROM:-0500
TZOFFSETTO:-0400
TZNAME:EDT
DTSTART:20230312T070000
END:DAYLIGHT
BEGIN:STANDARD
TZOFFSETFROM:-0400
TZOFFSETTO:-0500
TZNAME:EST
DTSTART:20231105T060000
END:STANDARD
BEGIN:DAYLIGHT
TZOFFSETFROM:-0500
TZOFFSETTO:-0400
TZNAME:EDT
DTSTART:20240310T070000
END:DAYLIGHT
BEGIN:STANDARD
TZOFFSETFROM:-0400
TZOFFSETTO:-0500
TZNAME:EST
DTSTART:20241103T060000
END:STANDARD
BEGIN:DAYLIGHT
TZOFFSETFROM:-0500
TZOFFSETTO:-0400
TZNAME:EDT
DTSTART:20250309T070000
END:DAYLIGHT
BEGIN:STANDARD
TZOFFSETFROM:-0400
TZOFFSETTO:-0500
TZNAME:EST
DTSTART:20251102T060000
END:STANDARD
END:VTIMEZONE
BEGIN:VEVENT
DTSTART;TZID=America/New_York:20240105T130000
DTEND;TZID=America/New_York:20240105T230000
DTSTAMP:20260419T222951
CREATED:20231216T201751Z
LAST-MODIFIED:20231216T212420Z
UID:67355-1704459600-1704495600@spacepolicyonline.com
SUMMARY:SCHRIEVER SPACEPOWER SERIES WITH LTG DEANNA BURT\, USSF (Mitchell Inst)\, Jan 5\, 2024\, virtual\, 1:00 pm ET
DESCRIPTION:The Mitchell Institute will hold the next webinar in the Schriever Spacepower Series on January 5\, 2024 at 1:00 pm ET. \nThe speaker is U.S. Space Force Lt. Gen. DeAnna Burt\, Deputy Chief of Space Operations for Operations\, Cyber and Nuclear. \nShe will be interviewed by Gen. Kevin Chilton (Ret.)\, Explorer Chair of the Mitchell Institute for Aerospace Studies Spacepower Advantage Center of Excellence (MI-SPACE). They will discuss “the state of space operations and initiatives to assure continued access to and use of the space domain in the face of increasing kinetic\, non-kinetic\, and cyber threats.” \nMore information is on the event’s website.
URL:https://spacepolicyonline.com/events/schriever-spacepower-series-with-ltg-deanna-burt-ussf-mitchell-inst-jan-5-2024-virtual-100-pm-et/
END:VEVENT
END:VCALENDAR