BEGIN:VCALENDAR
VERSION:2.0
PRODID:-//SpacePolicyOnline.com - ECPv6.15.11//NONSGML v1.0//EN
CALSCALE:GREGORIAN
METHOD:PUBLISH
X-WR-CALNAME:SpacePolicyOnline.com
X-ORIGINAL-URL:https://spacepolicyonline.com
X-WR-CALDESC:Events for SpacePolicyOnline.com
REFRESH-INTERVAL;VALUE=DURATION:PT1H
X-Robots-Tag:noindex
X-PUBLISHED-TTL:PT1H
BEGIN:VTIMEZONE
TZID:America/New_York
BEGIN:DAYLIGHT
TZOFFSETFROM:-0500
TZOFFSETTO:-0400
TZNAME:EDT
DTSTART:20220313T070000
END:DAYLIGHT
BEGIN:STANDARD
TZOFFSETFROM:-0400
TZOFFSETTO:-0500
TZNAME:EST
DTSTART:20221106T060000
END:STANDARD
BEGIN:DAYLIGHT
TZOFFSETFROM:-0500
TZOFFSETTO:-0400
TZNAME:EDT
DTSTART:20230312T070000
END:DAYLIGHT
BEGIN:STANDARD
TZOFFSETFROM:-0400
TZOFFSETTO:-0500
TZNAME:EST
DTSTART:20231105T060000
END:STANDARD
BEGIN:DAYLIGHT
TZOFFSETFROM:-0500
TZOFFSETTO:-0400
TZNAME:EDT
DTSTART:20240310T070000
END:DAYLIGHT
BEGIN:STANDARD
TZOFFSETFROM:-0400
TZOFFSETTO:-0500
TZNAME:EST
DTSTART:20241103T060000
END:STANDARD
END:VTIMEZONE
BEGIN:VEVENT
DTSTART;TZID=America/New_York:20230612T100000
DTEND;TZID=America/New_York:20230612T230000
DTSTAMP:20260425T222529
CREATED:20230610T205956Z
LAST-MODIFIED:20230611T163352Z
UID:62749-1686564000-1686610800@spacepolicyonline.com
SUMMARY:SCHRIEVER SPACEPOWER SERIES WITH GEN. DAVID D. THOMPSON (Mitchell Inst)\, June 12\, 2023\, virtual\, 10:00 am ET
DESCRIPTION:The Mitchell Institute will hold the next webinar in its Schriever Spacepower Series on June 12\, 2023 at 10:00 am ET. \nThe guest is Gen. David D. Thompson\, Vice Chief of Space Operations\, U.S. Space Force. \nMore information and registration instructions are on the event’s website.
URL:https://spacepolicyonline.com/events/schriver-spacepower-series-with-gen-david-d-thompson-mitchell-inst-june-12-2023-virtual-1000-am-et/
END:VEVENT
END:VCALENDAR