BEGIN:VCALENDAR
VERSION:2.0
PRODID:-//SpacePolicyOnline.com - ECPv6.15.11//NONSGML v1.0//EN
CALSCALE:GREGORIAN
METHOD:PUBLISH
X-WR-CALNAME:SpacePolicyOnline.com
X-ORIGINAL-URL:https://spacepolicyonline.com
X-WR-CALDESC:Events for SpacePolicyOnline.com
REFRESH-INTERVAL;VALUE=DURATION:PT1H
X-Robots-Tag:noindex
X-PUBLISHED-TTL:PT1H
BEGIN:VTIMEZONE
TZID:America/New_York
BEGIN:DAYLIGHT
TZOFFSETFROM:-0500
TZOFFSETTO:-0400
TZNAME:EDT
DTSTART:20240310T070000
END:DAYLIGHT
BEGIN:STANDARD
TZOFFSETFROM:-0400
TZOFFSETTO:-0500
TZNAME:EST
DTSTART:20241103T060000
END:STANDARD
BEGIN:DAYLIGHT
TZOFFSETFROM:-0500
TZOFFSETTO:-0400
TZNAME:EDT
DTSTART:20250309T070000
END:DAYLIGHT
BEGIN:STANDARD
TZOFFSETFROM:-0400
TZOFFSETTO:-0500
TZNAME:EST
DTSTART:20251102T060000
END:STANDARD
BEGIN:DAYLIGHT
TZOFFSETFROM:-0500
TZOFFSETTO:-0400
TZNAME:EDT
DTSTART:20260308T070000
END:DAYLIGHT
BEGIN:STANDARD
TZOFFSETFROM:-0400
TZOFFSETTO:-0500
TZNAME:EST
DTSTART:20261101T060000
END:STANDARD
END:VTIMEZONE
BEGIN:VEVENT
DTSTART;TZID=America/New_York:20250113T093000
DTEND;TZID=America/New_York:20250113T230000
DTSTAMP:20260420T090324
CREATED:20250110T222149Z
LAST-MODIFIED:20250113T214618Z
UID:77167-1736760600-1736809200@spacepolicyonline.com
SUMMARY:SECAF KENDALL ON THE DEPARTMENT OF THE AIR FORCE IN 2050 (CSIS)\, Jan 13\, 2025\, DC/virtual\, 9:30-10:15 am ET
DESCRIPTION:Secretary of the Air Force Frank Kendall will engage in a conversation with Kari Bingen\, Director of CSIS’s Aerospace Security Project\, about the Department of the Air Force in 2050\, on January 13\, 2025 from 9:30-10:15 am ET. \nMore information is on the event’s website\, where it will be webcast.  As shown below\, the CSIS website said it would be a virtual conversation\, but in fact it was in-person at CSIS HQ in D.C. \n“Please join the CSIS Aerospace Security Project on Monday\, January 13 at 9:30am EST for a virtual conversation with Secretary of the Air Force the Honorable Frank Kendall. The discussion will be moderated by Kari A. Bingen\, Director of the Aerospace Security Project\, with introductory remarks provided by Dr. Seth G. Jones\, President of the Defense and Security Department. \n“In his final thinktank engagement as Secretary of the Air Force\, Mr. Kendall plans to discuss his recently completed report\, The Department of the Air Force (DAF) in 2050. The report lays out a vision of what the Department of the Air Force should look like in 2050 and the air and space capabilities the nation will need. The conversation will span how the DAF is posturing for great power competition; emerging threats and future warfighting environments; key technology trends like autonomy\, artificial intelligence\, and long-range weapons; the state of the industrial base; and how the DAF is generating force readiness and building the people underpinning it. Secretary Kendall is also expected to reflect on his government service and leading the Department of the Air Force.  \n“Secretary Kendall is the 26th Secretary of the Air Force responsible for organizing\, training\, and equipping the U.S. Air and Space Forces. His career spans more than 50 years in engineering\, management\, defense acquisition\, and national security affairs across private industry\, government\, and the military\, including serving as the Under Secretary of Defense for Acquisition\, Technology and Logistics.”
URL:https://spacepolicyonline.com/events/secaf-kendall-on-the-department-of-the-air-force-in-2050-csis-jan-13-2025-virtual-930-1015-am-et/
END:VEVENT
END:VCALENDAR