BEGIN:VCALENDAR
VERSION:2.0
PRODID:-//SpacePolicyOnline.com - ECPv6.15.11//NONSGML v1.0//EN
CALSCALE:GREGORIAN
METHOD:PUBLISH
X-WR-CALNAME:SpacePolicyOnline.com
X-ORIGINAL-URL:https://spacepolicyonline.com
X-WR-CALDESC:Events for SpacePolicyOnline.com
REFRESH-INTERVAL;VALUE=DURATION:PT1H
X-Robots-Tag:noindex
X-PUBLISHED-TTL:PT1H
BEGIN:VTIMEZONE
TZID:America/New_York
BEGIN:DAYLIGHT
TZOFFSETFROM:-0500
TZOFFSETTO:-0400
TZNAME:EDT
DTSTART:20200308T070000
END:DAYLIGHT
BEGIN:STANDARD
TZOFFSETFROM:-0400
TZOFFSETTO:-0500
TZNAME:EST
DTSTART:20201101T060000
END:STANDARD
BEGIN:DAYLIGHT
TZOFFSETFROM:-0500
TZOFFSETTO:-0400
TZNAME:EDT
DTSTART:20210314T070000
END:DAYLIGHT
BEGIN:STANDARD
TZOFFSETFROM:-0400
TZOFFSETTO:-0500
TZNAME:EST
DTSTART:20211107T060000
END:STANDARD
BEGIN:DAYLIGHT
TZOFFSETFROM:-0500
TZOFFSETTO:-0400
TZNAME:EDT
DTSTART:20220313T070000
END:DAYLIGHT
BEGIN:STANDARD
TZOFFSETFROM:-0400
TZOFFSETTO:-0500
TZNAME:EST
DTSTART:20221106T060000
END:STANDARD
END:VTIMEZONE
BEGIN:VEVENT
DTSTART;TZID=America/New_York:20211118T130000
DTEND;TZID=America/New_York:20211118T230000
DTSTAMP:20260420T124535
CREATED:20211116T005119Z
LAST-MODIFIED:20211116T005119Z
UID:48352-1637240400-1637276400@spacepolicyonline.com
SUMMARY:SEEKING CLIMATE JUSTICE FROM SPACE (Aerospace Corp)\, Nov 18\, 2021\, virtual\, 1:00 pm ET
DESCRIPTION:The Aerospace Corporation will hold the next in its Space Policy Show webinars on November 18\, 2021 at 1:00 pm ET. \nThe topic is “Seeking Climate Justice From Space.” \nMore information is on the event’s website\, which says: \nHow can space satellites help identify pollution and unsistainable land use practices? From oil spills to methane super-emitters\, the view from space can spotlight the worst polluters. So why isn’t there better environmental accountability when so much earth monitoring data is available? In this episode Samira Patel talks to Karen Jones (Aerospace) and John Amos (President\, SkyTruth) about these issues and more. \nLearn about a new information architecture framework to better use satellite data for environmental monitoring and enforcement. Read the paper: Toward Environmental Accountability: Transforming Satellite Data Into Action. \n 
URL:https://spacepolicyonline.com/events/seeking-climate-justice-from-space-aerospace-corp-nov-18-2021-virtual-100-pm-et/
END:VEVENT
END:VCALENDAR