BEGIN:VCALENDAR
VERSION:2.0
PRODID:-//SpacePolicyOnline.com - ECPv6.15.11//NONSGML v1.0//EN
CALSCALE:GREGORIAN
METHOD:PUBLISH
X-WR-CALNAME:SpacePolicyOnline.com
X-ORIGINAL-URL:https://spacepolicyonline.com
X-WR-CALDESC:Events for SpacePolicyOnline.com
REFRESH-INTERVAL;VALUE=DURATION:PT1H
X-Robots-Tag:noindex
X-PUBLISHED-TTL:PT1H
BEGIN:VTIMEZONE
TZID:America/New_York
BEGIN:DAYLIGHT
TZOFFSETFROM:-0500
TZOFFSETTO:-0400
TZNAME:EDT
DTSTART:20190310T070000
END:DAYLIGHT
BEGIN:STANDARD
TZOFFSETFROM:-0400
TZOFFSETTO:-0500
TZNAME:EST
DTSTART:20191103T060000
END:STANDARD
BEGIN:DAYLIGHT
TZOFFSETFROM:-0500
TZOFFSETTO:-0400
TZNAME:EDT
DTSTART:20200308T070000
END:DAYLIGHT
BEGIN:STANDARD
TZOFFSETFROM:-0400
TZOFFSETTO:-0500
TZNAME:EST
DTSTART:20201101T060000
END:STANDARD
BEGIN:DAYLIGHT
TZOFFSETFROM:-0500
TZOFFSETTO:-0400
TZNAME:EDT
DTSTART:20210314T070000
END:DAYLIGHT
BEGIN:STANDARD
TZOFFSETFROM:-0400
TZOFFSETTO:-0500
TZNAME:EST
DTSTART:20211107T060000
END:STANDARD
END:VTIMEZONE
BEGIN:VEVENT
DTSTART;TZID=America/New_York:20200929T133000
DTEND;TZID=America/New_York:20200929T230000
DTSTAMP:20260419T141233
CREATED:20200926T174202Z
LAST-MODIFIED:20200928T153559Z
UID:37945-1601386200-1601420400@spacepolicyonline.com
SUMMARY:SEN. VAN HOLLEN\, NASA'S BRIDENSTINE DISCUSS MARYLAND'S ROLE IN NASA'S MISSION\, Sept 29\, 2020\, virtual\, 1:30 pm ET
DESCRIPTION:Sen. Chris Van Hollen (D-MD)\, NASA Administrator Jim Bridenstine and others will discuss “Maryland’s vital role in NASA’s mission” during a virtual event on September 29\, 2020 at 1:30 pm ET. \nThe event will be livestreamed.  More information and a registration link are on the event’s website. \nParticipants are: \n\nSen. Chris Van Hollen\nJim Bridenstine\, NASA Administrator\nDennis Andrucyk\, Director\, NASA Goddard Space Fight Center\, Greenbelt\, MD\nNiki Werkheiser\, Lead of the Lunar Surface Innovation Initiative\, NASA HQ\nDavid L. Pierce\, Director\, NASA Wallops Flight Facility\, Wallops Island\, VA\nRalph Semmel\, Director\, Johns Hopkins University Applied Physics Lab\, Laurel\, MD\nKenneth Sembach\, Director\, Space Telescope Science Institute\, Laurel\, MD\n\n 
URL:https://spacepolicyonline.com/events/sen-van-hollen-nasas-bridenstine-discuss-marylands-role-in-nasas-mission-sept-29-2020-virtual-130-pm-et/
END:VEVENT
END:VCALENDAR