BEGIN:VCALENDAR
VERSION:2.0
PRODID:-//SpacePolicyOnline.com - ECPv6.15.11//NONSGML v1.0//EN
CALSCALE:GREGORIAN
METHOD:PUBLISH
X-WR-CALNAME:SpacePolicyOnline.com
X-ORIGINAL-URL:https://spacepolicyonline.com
X-WR-CALDESC:Events for SpacePolicyOnline.com
REFRESH-INTERVAL;VALUE=DURATION:PT1H
X-Robots-Tag:noindex
X-PUBLISHED-TTL:PT1H
BEGIN:VTIMEZONE
TZID:America/New_York
BEGIN:DAYLIGHT
TZOFFSETFROM:-0500
TZOFFSETTO:-0400
TZNAME:EDT
DTSTART:20180311T070000
END:DAYLIGHT
BEGIN:STANDARD
TZOFFSETFROM:-0400
TZOFFSETTO:-0500
TZNAME:EST
DTSTART:20181104T060000
END:STANDARD
BEGIN:DAYLIGHT
TZOFFSETFROM:-0500
TZOFFSETTO:-0400
TZNAME:EDT
DTSTART:20190310T070000
END:DAYLIGHT
BEGIN:STANDARD
TZOFFSETFROM:-0400
TZOFFSETTO:-0500
TZNAME:EST
DTSTART:20191103T060000
END:STANDARD
BEGIN:DAYLIGHT
TZOFFSETFROM:-0500
TZOFFSETTO:-0400
TZNAME:EDT
DTSTART:20200308T070000
END:DAYLIGHT
BEGIN:STANDARD
TZOFFSETFROM:-0400
TZOFFSETTO:-0500
TZNAME:EST
DTSTART:20201101T060000
END:STANDARD
END:VTIMEZONE
BEGIN:VEVENT
DTSTART;TZID=America/New_York:20190919T103000
DTEND;TZID=America/New_York:20190919T230000
DTSTAMP:20260422T105116
CREATED:20190915T122104Z
LAST-MODIFIED:20190915T122115Z
UID:28902-1568889000-1568934000@spacepolicyonline.com
SUMMARY:SENATE APPROPRIATIONS FULL CMTE MARKUP FY2020 TRANSPORTATION-HUD BILL\, Sept 19\, 2019\, 10:30 am ET (audiocast)
DESCRIPTION:The full Senate Appropriations Committee will mark up the FY2020 Transportation-HUD appropriations bill on September 19\, 2019 at 10:30 am ET in 106 Dirksen Senate Office Building.  (Subcommittee mark up is on September 17.)  The bill includes funding for the FAA’s Office of Commercial Space Transportation. \nThe committee audiocasts its markup session on its website.
URL:https://spacepolicyonline.com/events/senate-appropriations-full-cmte-markup-fy2020-transportation-hud-bill-sept-19-2019-1030-am-et-audiocast/
END:VEVENT
END:VCALENDAR