BEGIN:VCALENDAR
VERSION:2.0
PRODID:-//SpacePolicyOnline.com - ECPv6.15.11//NONSGML v1.0//EN
CALSCALE:GREGORIAN
METHOD:PUBLISH
X-WR-CALNAME:SpacePolicyOnline.com
X-ORIGINAL-URL:https://spacepolicyonline.com
X-WR-CALDESC:Events for SpacePolicyOnline.com
REFRESH-INTERVAL;VALUE=DURATION:PT1H
X-Robots-Tag:noindex
X-PUBLISHED-TTL:PT1H
BEGIN:VTIMEZONE
TZID:America/New_York
BEGIN:DAYLIGHT
TZOFFSETFROM:-0500
TZOFFSETTO:-0400
TZNAME:EDT
DTSTART:20180311T070000
END:DAYLIGHT
BEGIN:STANDARD
TZOFFSETFROM:-0400
TZOFFSETTO:-0500
TZNAME:EST
DTSTART:20181104T060000
END:STANDARD
BEGIN:DAYLIGHT
TZOFFSETFROM:-0500
TZOFFSETTO:-0400
TZNAME:EDT
DTSTART:20190310T070000
END:DAYLIGHT
BEGIN:STANDARD
TZOFFSETFROM:-0400
TZOFFSETTO:-0500
TZNAME:EST
DTSTART:20191103T060000
END:STANDARD
BEGIN:DAYLIGHT
TZOFFSETFROM:-0500
TZOFFSETTO:-0400
TZNAME:EDT
DTSTART:20200308T070000
END:DAYLIGHT
BEGIN:STANDARD
TZOFFSETFROM:-0400
TZOFFSETTO:-0500
TZNAME:EST
DTSTART:20201101T060000
END:STANDARD
END:VTIMEZONE
BEGIN:VEVENT
DTSTART;TZID=America/New_York:20190917T113000
DTEND;TZID=America/New_York:20190917T230000
DTSTAMP:20260422T110737
CREATED:20190913T120103Z
LAST-MODIFIED:20190913T120103Z
UID:28848-1568719800-1568761200@spacepolicyonline.com
SUMMARY:SENATE APPROPRIATIONS SBCMT MARKUP FY2020 TRANSPORTATION-HUD BILL\, Sept 17\, 2019\, DC\, 11:30 am ET
DESCRIPTION:The Transportation-HUD (T-HUD) subcommittee of the Senate Appropriations Committee will meet at 11:30 am ET in 192 Dirksen Senate Office Building to mark up the FY2020 T-HUD bill\, which includes funding for FAA’s Office of Commercial Space Transportation. \nThe committee typically audiocasts its mark up sessions on its website.
URL:https://spacepolicyonline.com/events/senate-appropriations-sbcmt-markup-fy2020-transportation-hud-bill-sept-17-2019-dc-1130-am-et/
END:VEVENT
END:VCALENDAR