BEGIN:VCALENDAR
VERSION:2.0
PRODID:-//SpacePolicyOnline.com - ECPv6.15.11//NONSGML v1.0//EN
CALSCALE:GREGORIAN
METHOD:PUBLISH
X-WR-CALNAME:SpacePolicyOnline.com
X-ORIGINAL-URL:https://spacepolicyonline.com
X-WR-CALDESC:Events for SpacePolicyOnline.com
REFRESH-INTERVAL;VALUE=DURATION:PT1H
X-Robots-Tag:noindex
X-PUBLISHED-TTL:PT1H
BEGIN:VTIMEZONE
TZID:America/New_York
BEGIN:DAYLIGHT
TZOFFSETFROM:-0500
TZOFFSETTO:-0400
TZNAME:EDT
DTSTART:20250309T070000
END:DAYLIGHT
BEGIN:STANDARD
TZOFFSETFROM:-0400
TZOFFSETTO:-0500
TZNAME:EST
DTSTART:20251102T060000
END:STANDARD
BEGIN:DAYLIGHT
TZOFFSETFROM:-0500
TZOFFSETTO:-0400
TZNAME:EDT
DTSTART:20260308T070000
END:DAYLIGHT
BEGIN:STANDARD
TZOFFSETFROM:-0400
TZOFFSETTO:-0500
TZNAME:EST
DTSTART:20261101T060000
END:STANDARD
BEGIN:DAYLIGHT
TZOFFSETFROM:-0500
TZOFFSETTO:-0400
TZNAME:EDT
DTSTART:20270314T070000
END:DAYLIGHT
BEGIN:STANDARD
TZOFFSETFROM:-0400
TZOFFSETTO:-0500
TZNAME:EST
DTSTART:20271107T060000
END:STANDARD
END:VTIMEZONE
BEGIN:VEVENT
DTSTART;TZID=America/New_York:20260428T100000
DTEND;TZID=America/New_York:20260428T230000
DTSTAMP:20260424T021459
CREATED:20260424T032700Z
LAST-MODIFIED:20260424T032700Z
UID:88546-1777370400-1777417200@spacepolicyonline.com
SUMMARY:SENATE APPROPS CJS SBCMT HRG ON NASA'S FY2027 BUDGET\, Apr 28\, 2026\, DC\, 10:00 am ET
DESCRIPTION:The Senate Appropriations Commerce-Justice-Science (CJS) subcommittee will hold a hearing on NASA’s FY2027 budget request on April 28\, 2026 at 10:00 am ET in 138 Dirksen Senate Office Building. \nThe hearing will be webcast on the committee’s website. \nNASA Administrator Jared Isaacman is the witness. \n \n 
URL:https://spacepolicyonline.com/events/senate-approps-cjs-sbcmt-hrg-on-nasas-fy2027-budget-apr-28-2026-dc-1000-am-et/
END:VEVENT
END:VCALENDAR