BEGIN:VCALENDAR
VERSION:2.0
PRODID:-//SpacePolicyOnline.com - ECPv6.15.11//NONSGML v1.0//EN
CALSCALE:GREGORIAN
METHOD:PUBLISH
X-WR-CALNAME:SpacePolicyOnline.com
X-ORIGINAL-URL:https://spacepolicyonline.com
X-WR-CALDESC:Events for SpacePolicyOnline.com
REFRESH-INTERVAL;VALUE=DURATION:PT1H
X-Robots-Tag:noindex
X-PUBLISHED-TTL:PT1H
BEGIN:VTIMEZONE
TZID:America/New_York
BEGIN:DAYLIGHT
TZOFFSETFROM:-0500
TZOFFSETTO:-0400
TZNAME:EDT
DTSTART:20240310T070000
END:DAYLIGHT
BEGIN:STANDARD
TZOFFSETFROM:-0400
TZOFFSETTO:-0500
TZNAME:EST
DTSTART:20241103T060000
END:STANDARD
BEGIN:DAYLIGHT
TZOFFSETFROM:-0500
TZOFFSETTO:-0400
TZNAME:EDT
DTSTART:20250309T070000
END:DAYLIGHT
BEGIN:STANDARD
TZOFFSETFROM:-0400
TZOFFSETTO:-0500
TZNAME:EST
DTSTART:20251102T060000
END:STANDARD
BEGIN:DAYLIGHT
TZOFFSETFROM:-0500
TZOFFSETTO:-0400
TZNAME:EDT
DTSTART:20260308T070000
END:DAYLIGHT
BEGIN:STANDARD
TZOFFSETFROM:-0400
TZOFFSETTO:-0500
TZNAME:EST
DTSTART:20261101T060000
END:STANDARD
END:VTIMEZONE
BEGIN:VEVENT
DTSTART;TZID=America/New_York:20250717T110000
DTEND;TZID=America/New_York:20250717T230000
DTSTAMP:20260419T130637
CREATED:20250717T122514Z
LAST-MODIFIED:20250717T122543Z
UID:82619-1752750000-1752793200@spacepolicyonline.com
SUMMARY:SENATE APPROPS CONTINUES CONSIDERATION OF CJS BILL\, July 17\, 2025\, DC\, 11:00 am ET
DESCRIPTION:The Senate Appropriations Committee will resume consideration of the Commerce-Justice-Science (CJS) bill on July 17\, 2025 at 11:00 am ET.  Debate began on July 10\, but was derailed by a debate over the location of a new FBI HQ. Committee chair Sen. Susan Collins recessed the markup and it will pick up today. The FBI is part of the Department of Justice\, which is funded in this bill also with NASA and NOAA. \nThe committee will also take up the Military Construction/Veterans Affairs (MilCon/VA) bill. \nThe meeting will be webcast on the committee’s website.
URL:https://spacepolicyonline.com/events/senate-approps-continues-consideration-of-cjs-bill-july-17-2025-dc-1100-am-et/
END:VEVENT
END:VCALENDAR