BEGIN:VCALENDAR
VERSION:2.0
PRODID:-//SpacePolicyOnline.com - ECPv6.15.11//NONSGML v1.0//EN
CALSCALE:GREGORIAN
METHOD:PUBLISH
X-WR-CALNAME:SpacePolicyOnline.com
X-ORIGINAL-URL:https://spacepolicyonline.com
X-WR-CALDESC:Events for SpacePolicyOnline.com
REFRESH-INTERVAL;VALUE=DURATION:PT1H
X-Robots-Tag:noindex
X-PUBLISHED-TTL:PT1H
BEGIN:VTIMEZONE
TZID:America/New_York
BEGIN:DAYLIGHT
TZOFFSETFROM:-0500
TZOFFSETTO:-0400
TZNAME:EDT
DTSTART:20160313T070000
END:DAYLIGHT
BEGIN:STANDARD
TZOFFSETFROM:-0400
TZOFFSETTO:-0500
TZNAME:EST
DTSTART:20161106T060000
END:STANDARD
BEGIN:DAYLIGHT
TZOFFSETFROM:-0500
TZOFFSETTO:-0400
TZNAME:EDT
DTSTART:20170312T070000
END:DAYLIGHT
BEGIN:STANDARD
TZOFFSETFROM:-0400
TZOFFSETTO:-0500
TZNAME:EST
DTSTART:20171105T060000
END:STANDARD
BEGIN:DAYLIGHT
TZOFFSETFROM:-0500
TZOFFSETTO:-0400
TZNAME:EDT
DTSTART:20180311T070000
END:DAYLIGHT
BEGIN:STANDARD
TZOFFSETFROM:-0400
TZOFFSETTO:-0500
TZNAME:EST
DTSTART:20181104T060000
END:STANDARD
END:VTIMEZONE
BEGIN:VEVENT
DTSTART;TZID=America/New_York:20171219T100000
DTEND;TZID=America/New_York:20171219T170000
DTSTAMP:20260425T131609
CREATED:20171218T140036Z
LAST-MODIFIED:20171218T140036Z
UID:13612-1513677600-1513702800@spacepolicyonline.com
SUMMARY:SENATE BANKING CMTE MARKUP EXIM BANK NOMINEES\, Dec 19\, 2017\, DC\, 10:00 am ET (webcast)
DESCRIPTION:The Senate Banking\, Housing\, and Urban Affairs Committee will mark up six nominations for the Export-Import Bank on December 19\, 2017 at 10:00 am ET in 538 Dirksen Senate Office Building.  The meeting will be webcast on the committee’s website. \nThe nominees are: \n\nThe Honorable Scott Garrett\, of New Jersey\, to be President of the Export-Import Bank;\nMs. Kimberly A. Reed\, of West Virginia\, to be First Vice President of the Export-Import Bank;\nThe Honorable Spencer Bachus III\, of Alabama\, to be a member of the Board of Directors of the Export-Import Bank; Reappointment as a Member of the Board of Directors of the Export-Import Bank; \nMs. Judith DelZoppo Pryor\, of Ohio\, to be a Member of the Board of Directors of the Export-Import Bank;\nMs. Claudia Slacik\, of New York\, to be a Member of the Board of Directors of the Export-Import Bank; Reappointment as a Member of the Board of Directors of the Export-Import Bank; and\nMr. Mark L. Greenblatt\, of Maryland\, to be Inspector General of the Export-Import Bank.
URL:https://spacepolicyonline.com/events/senate-banking-cmte-markup-exim-bank-nominees-dec-19-2017-dc-1000-am-et-webcast/
END:VEVENT
END:VCALENDAR