BEGIN:VCALENDAR
VERSION:2.0
PRODID:-//SpacePolicyOnline.com - ECPv6.15.11//NONSGML v1.0//EN
CALSCALE:GREGORIAN
METHOD:PUBLISH
X-WR-CALNAME:SpacePolicyOnline.com
X-ORIGINAL-URL:https://spacepolicyonline.com
X-WR-CALDESC:Events for SpacePolicyOnline.com
REFRESH-INTERVAL;VALUE=DURATION:PT1H
X-Robots-Tag:noindex
X-PUBLISHED-TTL:PT1H
BEGIN:VTIMEZONE
TZID:America/New_York
BEGIN:DAYLIGHT
TZOFFSETFROM:-0500
TZOFFSETTO:-0400
TZNAME:EDT
DTSTART:20180311T070000
END:DAYLIGHT
BEGIN:STANDARD
TZOFFSETFROM:-0400
TZOFFSETTO:-0500
TZNAME:EST
DTSTART:20181104T060000
END:STANDARD
BEGIN:DAYLIGHT
TZOFFSETFROM:-0500
TZOFFSETTO:-0400
TZNAME:EDT
DTSTART:20190310T070000
END:DAYLIGHT
BEGIN:STANDARD
TZOFFSETFROM:-0400
TZOFFSETTO:-0500
TZNAME:EST
DTSTART:20191103T060000
END:STANDARD
BEGIN:DAYLIGHT
TZOFFSETFROM:-0500
TZOFFSETTO:-0400
TZNAME:EDT
DTSTART:20200308T070000
END:DAYLIGHT
BEGIN:STANDARD
TZOFFSETFROM:-0400
TZOFFSETTO:-0500
TZNAME:EST
DTSTART:20201101T060000
END:STANDARD
END:VTIMEZONE
BEGIN:VEVENT
DTSTART;TZID=America/New_York:20190605T100000
DTEND;TZID=America/New_York:20190605T230000
DTSTAMP:20260420T141419
CREATED:20190531T220106Z
LAST-MODIFIED:20190531T220120Z
UID:26332-1559728800-1559775600@spacepolicyonline.com
SUMMARY:SENATE BANKING CMTE NOMINATION HEARING INCL PAUL SHMOTOLOKHA FOR EXPORT-IMPORT BANK\, June 5\, 2019\, DC\, 10:00 am ET (webcast)
DESCRIPTION:The Senate Banking\, Housing and Urban Affairs Committee will hold a nomination hearing on June 5\, 2019 at 10:00 am ET in 538 Dirksen Senate Office Building.  Among the nominees is Paul Shmotolokha to be First Vice President of the Export-Import Bank.  (The President of the Bank and two Directors were confirmed by the Senate recently\, but this position is still open.) \nThe committee webcasts its hearings on its website.
URL:https://spacepolicyonline.com/events/senate-banking-cmte-nomination-hearing-incl-paul-shmotolokha-for-export-import-bank-june-5-2019-dc-1000-am-et/
END:VEVENT
END:VCALENDAR