BEGIN:VCALENDAR
VERSION:2.0
PRODID:-//SpacePolicyOnline.com - ECPv6.15.11//NONSGML v1.0//EN
CALSCALE:GREGORIAN
METHOD:PUBLISH
X-WR-CALNAME:SpacePolicyOnline.com
X-ORIGINAL-URL:https://spacepolicyonline.com
X-WR-CALDESC:Events for SpacePolicyOnline.com
REFRESH-INTERVAL;VALUE=DURATION:PT1H
X-Robots-Tag:noindex
X-PUBLISHED-TTL:PT1H
BEGIN:VTIMEZONE
TZID:America/New_York
BEGIN:DAYLIGHT
TZOFFSETFROM:-0500
TZOFFSETTO:-0400
TZNAME:EDT
DTSTART:20180311T070000
END:DAYLIGHT
BEGIN:STANDARD
TZOFFSETFROM:-0400
TZOFFSETTO:-0500
TZNAME:EST
DTSTART:20181104T060000
END:STANDARD
BEGIN:DAYLIGHT
TZOFFSETFROM:-0500
TZOFFSETTO:-0400
TZNAME:EDT
DTSTART:20190310T070000
END:DAYLIGHT
BEGIN:STANDARD
TZOFFSETFROM:-0400
TZOFFSETTO:-0500
TZNAME:EST
DTSTART:20191103T060000
END:STANDARD
BEGIN:DAYLIGHT
TZOFFSETFROM:-0500
TZOFFSETTO:-0400
TZNAME:EDT
DTSTART:20200308T070000
END:DAYLIGHT
BEGIN:STANDARD
TZOFFSETFROM:-0400
TZOFFSETTO:-0500
TZNAME:EST
DTSTART:20201101T060000
END:STANDARD
END:VTIMEZONE
BEGIN:VEVENT
DTSTART;TZID=America/New_York:20190515T100000
DTEND;TZID=America/New_York:20190515T230000
DTSTAMP:20260422T214001
CREATED:20190510T162410Z
LAST-MODIFIED:20190510T162427Z
UID:25867-1557914400-1557961200@spacepolicyonline.com
SUMMARY:SENATE COMMERCE CMTE HRG ON NOMINATION OF STEPHEN DICKSON TO BE FAA ADMINISTRATOR\, May 15\, 2019\, DC\, 10:00 am ET (webcast)
DESCRIPTION:The Senate Commerce\, Science\, and Transportation Committee will hold a hearing on the nomination of Stephen Dickson to be the Administrator of the Federal Aviation Administration (FAA) on May 15\, 2019 at 10:00 am ET in G50 Dirksen Senate Office Building.  The committee webcasts its hearings on its website. \nMr. Dickson is the only witness. \nThe FAA’s Office of Commercial Space Transportation regulates\, facilities and promotes the commercial space launch and reentry business.  Integrating space launches and reentries into the National Airspace System (NAS)\, which is overseen by the FAA’s Air Traffic Organization (ATO)\, is major issue at the moment.  The committee held a hearing on that topic on May 8.
URL:https://spacepolicyonline.com/events/senate-commerce-cmte-hrg-on-nomination-of-stephen-dickson-to-be-faa-administrator-may-15-2019-dc-1000-am-et-webcast/
END:VEVENT
END:VCALENDAR