BEGIN:VCALENDAR
VERSION:2.0
PRODID:-//SpacePolicyOnline.com - ECPv6.15.11//NONSGML v1.0//EN
CALSCALE:GREGORIAN
METHOD:PUBLISH
X-WR-CALNAME:SpacePolicyOnline.com
X-ORIGINAL-URL:https://spacepolicyonline.com
X-WR-CALDESC:Events for SpacePolicyOnline.com
REFRESH-INTERVAL;VALUE=DURATION:PT1H
X-Robots-Tag:noindex
X-PUBLISHED-TTL:PT1H
BEGIN:VTIMEZONE
TZID:America/New_York
BEGIN:DAYLIGHT
TZOFFSETFROM:-0500
TZOFFSETTO:-0400
TZNAME:EDT
DTSTART:20240310T070000
END:DAYLIGHT
BEGIN:STANDARD
TZOFFSETFROM:-0400
TZOFFSETTO:-0500
TZNAME:EST
DTSTART:20241103T060000
END:STANDARD
BEGIN:DAYLIGHT
TZOFFSETFROM:-0500
TZOFFSETTO:-0400
TZNAME:EDT
DTSTART:20250309T070000
END:DAYLIGHT
BEGIN:STANDARD
TZOFFSETFROM:-0400
TZOFFSETTO:-0500
TZNAME:EST
DTSTART:20251102T060000
END:STANDARD
BEGIN:DAYLIGHT
TZOFFSETFROM:-0500
TZOFFSETTO:-0400
TZNAME:EDT
DTSTART:20260308T070000
END:DAYLIGHT
BEGIN:STANDARD
TZOFFSETFROM:-0400
TZOFFSETTO:-0500
TZNAME:EST
DTSTART:20261101T060000
END:STANDARD
END:VTIMEZONE
BEGIN:VEVENT
DTSTART;TZID=America/New_York:20250122T100000
DTEND;TZID=America/New_York:20250122T230000
DTSTAMP:20260424T142720
CREATED:20250118T201722Z
LAST-MODIFIED:20250118T201722Z
UID:77451-1737540000-1737586800@spacepolicyonline.com
SUMMARY:SENATE COMMERCE CMTE MARKUP OF SEAN DUFFY'S NOMINATION TO BE SEC OF TRANS\, Jan 22\, 2025\, DC\, 10:00 am ET
DESCRIPTION:The Senate Commerce\, Science\, and Transportation Committee will hold a business meeting on January 22\, 2025 in 253 Rayburn House Office Building at 10:00 am ET to vote on the nomination of Sean Duffy to be Secretary of Transportation.  The committee held a hearing on the nomination last week. \nThe Department of Transportation includes the FAA. The FAA’s Office of  Commercial Space Transportation regulates commercial space launches and reentries. \nThe committee will webcast the markup on its website.
URL:https://spacepolicyonline.com/events/senate-commerce-cmte-markup-of-sean-duffys-nomination-to-be-sec-of-trans-jan-22-2025-dc-1000-am-et/
END:VEVENT
END:VCALENDAR