BEGIN:VCALENDAR
VERSION:2.0
PRODID:-//SpacePolicyOnline.com - ECPv6.15.11//NONSGML v1.0//EN
CALSCALE:GREGORIAN
METHOD:PUBLISH
X-WR-CALNAME:SpacePolicyOnline.com
X-ORIGINAL-URL:https://spacepolicyonline.com
X-WR-CALDESC:Events for SpacePolicyOnline.com
REFRESH-INTERVAL;VALUE=DURATION:PT1H
X-Robots-Tag:noindex
X-PUBLISHED-TTL:PT1H
BEGIN:VTIMEZONE
TZID:America/New_York
BEGIN:DAYLIGHT
TZOFFSETFROM:-0500
TZOFFSETTO:-0400
TZNAME:EDT
DTSTART:20180311T070000
END:DAYLIGHT
BEGIN:STANDARD
TZOFFSETFROM:-0400
TZOFFSETTO:-0500
TZNAME:EST
DTSTART:20181104T060000
END:STANDARD
BEGIN:DAYLIGHT
TZOFFSETFROM:-0500
TZOFFSETTO:-0400
TZNAME:EDT
DTSTART:20190310T070000
END:DAYLIGHT
BEGIN:STANDARD
TZOFFSETFROM:-0400
TZOFFSETTO:-0500
TZNAME:EST
DTSTART:20191103T060000
END:STANDARD
BEGIN:DAYLIGHT
TZOFFSETFROM:-0500
TZOFFSETTO:-0400
TZNAME:EDT
DTSTART:20200308T070000
END:DAYLIGHT
BEGIN:STANDARD
TZOFFSETFROM:-0400
TZOFFSETTO:-0500
TZNAME:EST
DTSTART:20201101T060000
END:STANDARD
END:VTIMEZONE
BEGIN:VEVENT
DTSTART;TZID=America/New_York:20190516T100000
DTEND;TZID=America/New_York:20190516T230000
DTSTAMP:20260422T185652
CREATED:20190510T162930Z
LAST-MODIFIED:20190510T162930Z
UID:25870-1558000800-1558047600@spacepolicyonline.com
SUMMARY:SENATE COMMERCE HEARING ON ATMOSPHERIC SCIENCE RESEARCH AND FORECASTING INNOVATION\, May 16\, 2019\, DC\, 10:00 am ET (webcast)
DESCRIPTION:The Subcommittee on Science\, Oceans\, Fisheries\, and Weather of the Senate Commerce\, Science\, and Transportation Committee will hold a hearing on May 16\, 2019 at 10:00 am ET in 562 Dirksen Senate Office Building on “Atmospheric Science Research and Forecasting Innovation.”  The committee webcasts its hearings on its website. \n“The hearing will examine the current state of atmospheric and forecast research. Witnesses will provide insight on how to make atmospheric science research more broadly accessible and available. The panel will also provide feedback on the Weather Research and Forecasting Innovation Act of 2017 and the National Integrated Drought Information System Reauthorization Act of 2018.’ \nScheduled witnesses are: \n\nDr. Waleed Abdalati\, Director\, Cooperative Institute for Research in Environmental Sciences (and former NASA Chief Scientist)\nDr. Deborah Bronk\, President and Chief Executive Officer\, Bigelow Laboratory for Ocean Sciences\nDr. Radley Horton\, Associate Research Professor\, Lamont-Doherty Earth Observatory\, Columbia University Earth Institute\nDr. Erika Washburn\, Director\, Lake Superior National Estuarine Research Reserve
URL:https://spacepolicyonline.com/events/senate-commerce-hearing-on-atmospheric-science-research-and-forecasting-innovation-may-16-2019-dc-1000-am-et-webcast/
END:VEVENT
END:VCALENDAR