BEGIN:VCALENDAR
VERSION:2.0
PRODID:-//SpacePolicyOnline.com - ECPv6.15.11//NONSGML v1.0//EN
CALSCALE:GREGORIAN
METHOD:PUBLISH
X-WR-CALNAME:SpacePolicyOnline.com
X-ORIGINAL-URL:https://spacepolicyonline.com
X-WR-CALDESC:Events for SpacePolicyOnline.com
REFRESH-INTERVAL;VALUE=DURATION:PT1H
X-Robots-Tag:noindex
X-PUBLISHED-TTL:PT1H
BEGIN:VTIMEZONE
TZID:America/New_York
BEGIN:DAYLIGHT
TZOFFSETFROM:-0500
TZOFFSETTO:-0400
TZNAME:EDT
DTSTART:20240310T070000
END:DAYLIGHT
BEGIN:STANDARD
TZOFFSETFROM:-0400
TZOFFSETTO:-0500
TZNAME:EST
DTSTART:20241103T060000
END:STANDARD
BEGIN:DAYLIGHT
TZOFFSETFROM:-0500
TZOFFSETTO:-0400
TZNAME:EDT
DTSTART:20250309T070000
END:DAYLIGHT
BEGIN:STANDARD
TZOFFSETFROM:-0400
TZOFFSETTO:-0500
TZNAME:EST
DTSTART:20251102T060000
END:STANDARD
BEGIN:DAYLIGHT
TZOFFSETFROM:-0500
TZOFFSETTO:-0400
TZNAME:EDT
DTSTART:20260308T070000
END:DAYLIGHT
BEGIN:STANDARD
TZOFFSETFROM:-0400
TZOFFSETTO:-0500
TZNAME:EST
DTSTART:20261101T060000
END:STANDARD
END:VTIMEZONE
BEGIN:VEVENT
DTSTART;TZID=America/New_York:20250115T100000
DTEND;TZID=America/New_York:20250115T230000
DTSTAMP:20260419T100719
CREATED:20250111T141203Z
LAST-MODIFIED:20250111T141203Z
UID:77172-1736935200-1736982000@spacepolicyonline.com
SUMMARY:SENATE COMMERCE HRG ON EXPECTED NOM OF SEAN DUFFY TO BE SEC OF TRANS\, Jan 15\, 2025\, DC\, 10:00 am ET
DESCRIPTION:The Senate Commerce\, Science\, and Transportation Committee will hold a hearing on January 15\, 2025 at 10:00 am ET in 253 Russell Senate Office Building on the expected nomination of Sean Duffy to be Secretary of Transportation. The hearing will be webcast on the committee’s website. \nThe Department of Transporation includes the FAA and its Office of Commercial Space Transportation. President-elect Trump has announced his intention to nominate Duffy to be Secretary of Transportation\, but cannot formally nominate him until he takes office on January 20.  Senate rules allow hearings to be held on expected nominations in advance of the inauguration so they can be confirmed in a timely manner.
URL:https://spacepolicyonline.com/events/senate-commerce-hrg-on-expected-nom-of-sean-duffy-to-be-sec-of-trans-jan-15-2025-dc-1000-am-et/
END:VEVENT
END:VCALENDAR