BEGIN:VCALENDAR
VERSION:2.0
PRODID:-//SpacePolicyOnline.com - ECPv6.15.11//NONSGML v1.0//EN
CALSCALE:GREGORIAN
METHOD:PUBLISH
X-WR-CALNAME:SpacePolicyOnline.com
X-ORIGINAL-URL:https://spacepolicyonline.com
X-WR-CALDESC:Events for SpacePolicyOnline.com
REFRESH-INTERVAL;VALUE=DURATION:PT1H
X-Robots-Tag:noindex
X-PUBLISHED-TTL:PT1H
BEGIN:VTIMEZONE
TZID:America/New_York
BEGIN:DAYLIGHT
TZOFFSETFROM:-0500
TZOFFSETTO:-0400
TZNAME:EDT
DTSTART:20220313T070000
END:DAYLIGHT
BEGIN:STANDARD
TZOFFSETFROM:-0400
TZOFFSETTO:-0500
TZNAME:EST
DTSTART:20221106T060000
END:STANDARD
BEGIN:DAYLIGHT
TZOFFSETFROM:-0500
TZOFFSETTO:-0400
TZNAME:EDT
DTSTART:20230312T070000
END:DAYLIGHT
BEGIN:STANDARD
TZOFFSETFROM:-0400
TZOFFSETTO:-0500
TZNAME:EST
DTSTART:20231105T060000
END:STANDARD
BEGIN:DAYLIGHT
TZOFFSETFROM:-0500
TZOFFSETTO:-0400
TZNAME:EDT
DTSTART:20240310T070000
END:DAYLIGHT
BEGIN:STANDARD
TZOFFSETFROM:-0400
TZOFFSETTO:-0500
TZNAME:EST
DTSTART:20241103T060000
END:STANDARD
END:VTIMEZONE
BEGIN:VEVENT
DTSTART;TZID=America/New_York:20230301T100000
DTEND;TZID=America/New_York:20230301T230000
DTSTAMP:20260425T223923
CREATED:20230222T194748Z
LAST-MODIFIED:20230222T195113Z
UID:60077-1677664800-1677711600@spacepolicyonline.com
SUMMARY:SENATE COMMERCE HRG ON NOMINATION OF PHIL WASHINGTON TO BE FAA ADMIN\, Mar 1\, 2023\, DC\, 10:00 am ET
DESCRIPTION:The Senate Commerce\, Science\, and Transportation Committee will hold a hearing on March 1\, 2023 at 10:00 am ET in 253 Russell Senate Office Building on the nomination of Phil Washington to be Administrator of the Federal Aviation Administration (FAA). \nFAA is home to the Office of Commercial Space Transportation that facilitates\, promotes and regulates commercial space launches and reentries. \nThe hearing will be webcast on the committee’s website. \nMr. Washington is the only witness.  He is the Chief Executive of Denver International Airport and was originally nominated in July 2022. Billy Nolen has been Acting FAA Administrator since the departure of Stephen Dickson in March 2022.
URL:https://spacepolicyonline.com/events/senate-commerce-hrg-on-nomination-of-phil-washington-to-be-faa-admin-mar-1-2023-dc-1000-am-et/
END:VEVENT
END:VCALENDAR