BEGIN:VCALENDAR
VERSION:2.0
PRODID:-//SpacePolicyOnline.com - ECPv6.15.11//NONSGML v1.0//EN
CALSCALE:GREGORIAN
METHOD:PUBLISH
X-WR-CALNAME:SpacePolicyOnline.com
X-ORIGINAL-URL:https://spacepolicyonline.com
X-WR-CALDESC:Events for SpacePolicyOnline.com
REFRESH-INTERVAL;VALUE=DURATION:PT1H
X-Robots-Tag:noindex
X-PUBLISHED-TTL:PT1H
BEGIN:VTIMEZONE
TZID:America/New_York
BEGIN:DAYLIGHT
TZOFFSETFROM:-0500
TZOFFSETTO:-0400
TZNAME:EDT
DTSTART:20180311T070000
END:DAYLIGHT
BEGIN:STANDARD
TZOFFSETFROM:-0400
TZOFFSETTO:-0500
TZNAME:EST
DTSTART:20181104T060000
END:STANDARD
BEGIN:DAYLIGHT
TZOFFSETFROM:-0500
TZOFFSETTO:-0400
TZNAME:EDT
DTSTART:20190310T070000
END:DAYLIGHT
BEGIN:STANDARD
TZOFFSETFROM:-0400
TZOFFSETTO:-0500
TZNAME:EST
DTSTART:20191103T060000
END:STANDARD
BEGIN:DAYLIGHT
TZOFFSETFROM:-0500
TZOFFSETTO:-0400
TZNAME:EDT
DTSTART:20200308T070000
END:DAYLIGHT
BEGIN:STANDARD
TZOFFSETFROM:-0400
TZOFFSETTO:-0500
TZNAME:EST
DTSTART:20201101T060000
END:STANDARD
END:VTIMEZONE
BEGIN:VEVENT
DTSTART;TZID=America/New_York:20190514T150000
DTEND;TZID=America/New_York:20190514T230000
DTSTAMP:20260422T213654
CREATED:20190508T155922Z
LAST-MODIFIED:20190512T162857Z
UID:25807-1557846000-1557874800@spacepolicyonline.com
SUMMARY:SENATE COMMERCE SBCMT HEARING ON EMERGING SPACE ENVIRONMENT\, May 14\, 2019\, DC\, 3:00 pm ET (webcast)
DESCRIPTION:The Aviation and Space Subcommittee of the Senate Commerce\, Science\, and Transportation Committee will hold a hearing on May 14\, 2019 at 3:00 pm ET in 562 Dirksen Senate Office Building on “The Emerging Space Environment: Operational\, Technical\, and Policy Challenges.”   The hearing “will examine civil-military coordination\, cooperation\, and related issues within the space domain.” \nThe committee webcasts its hearings on its website. \nScheduled witnesses are: \n\nThe Honorable Jim Bridenstine\, Administrator\, National Aeronautics and Space Administration\nMr. Kevin O’Connell\, Director\, Office of Space Commerce\, Department of Commerce\nMr. Robert Cardillo\, Former Director\, National Geospatial-Intelligence Agency\nLt. Gen. David D. Thompson\, Vice Commander\, Space Command\, United States Air Force\nCol. Pamela A. Melroy\, United States Air Force (ret.) (former astronaut)
URL:https://spacepolicyonline.com/events/senate-commerce-sbcmt-hearing-on-emerging-space-environment-may-14-2019-dc-300-pm-et-webcast/
END:VEVENT
END:VCALENDAR