BEGIN:VCALENDAR
VERSION:2.0
PRODID:-//SpacePolicyOnline.com - ECPv6.15.11//NONSGML v1.0//EN
CALSCALE:GREGORIAN
METHOD:PUBLISH
X-WR-CALNAME:SpacePolicyOnline.com
X-ORIGINAL-URL:https://spacepolicyonline.com
X-WR-CALDESC:Events for SpacePolicyOnline.com
REFRESH-INTERVAL;VALUE=DURATION:PT1H
X-Robots-Tag:noindex
X-PUBLISHED-TTL:PT1H
BEGIN:VTIMEZONE
TZID:America/New_York
BEGIN:DAYLIGHT
TZOFFSETFROM:-0500
TZOFFSETTO:-0400
TZNAME:EDT
DTSTART:20200308T070000
END:DAYLIGHT
BEGIN:STANDARD
TZOFFSETFROM:-0400
TZOFFSETTO:-0500
TZNAME:EST
DTSTART:20201101T060000
END:STANDARD
BEGIN:DAYLIGHT
TZOFFSETFROM:-0500
TZOFFSETTO:-0400
TZNAME:EDT
DTSTART:20210314T070000
END:DAYLIGHT
BEGIN:STANDARD
TZOFFSETFROM:-0400
TZOFFSETTO:-0500
TZNAME:EST
DTSTART:20211107T060000
END:STANDARD
BEGIN:DAYLIGHT
TZOFFSETFROM:-0500
TZOFFSETTO:-0400
TZNAME:EDT
DTSTART:20220313T070000
END:DAYLIGHT
BEGIN:STANDARD
TZOFFSETFROM:-0400
TZOFFSETTO:-0500
TZNAME:EST
DTSTART:20221106T060000
END:STANDARD
END:VTIMEZONE
BEGIN:VEVENT
DTSTART;TZID=America/New_York:20210722T100000
DTEND;TZID=America/New_York:20210722T230000
DTSTAMP:20260419T125035
CREATED:20210715T221730Z
LAST-MODIFIED:20210721T161340Z
UID:45374-1626948000-1626994800@spacepolicyonline.com
SUMMARY:SENATE COMMERCE SBCMT HRG ON SPACE SITUATIONAL AWARENESS\,SPACE TRAFFIC MGMT\, SPACE DEBRIS\, July 22\, 2021\, DC\, 10:00 am ET
DESCRIPTION:The Space and Science Subcommittee of the Senate Commerce\, Science\, and Transportation Committee will hold a hearing on July 22\, 2021 in 253 Russell Senate Office Building at 10:00 am ET.  Some members may participate virtually.  The hearing will be webcast on the committee’s website. \nThe topic is “Space Situational Awareness\, Space Traffic Management\, and Orbital Debris: Examining Solutions for Emerging Threats.” \nWitnesses\, updated as of July 21\, are: \n\nKarina Drees\, President\, Commercial Spaceflight Federation\nKevin O’Connell\, Founder and CEO\, Space Economy Rising LLC\nDr. Marcus Holzinger\, Associate Professor\, Aerospace Engineering Sciences Department\, University of Colorado Boulder\nPaul Graziani\, Co-Founder\, Analytical Graphics Inc.\, and Chief Executive Officer\, COMSPOC Corp\, Canonsburg\, PA\nTom Stroup\, President\, Satellite Industry Association
URL:https://spacepolicyonline.com/events/senate-commerce-sbcmt-hrg-on-space-situational-awarenessspace-traffic-mgmt-space-debris-july-22-2021-dc-1000-am-et/
END:VEVENT
END:VCALENDAR