BEGIN:VCALENDAR
VERSION:2.0
PRODID:-//SpacePolicyOnline.com - ECPv6.15.11//NONSGML v1.0//EN
CALSCALE:GREGORIAN
METHOD:PUBLISH
X-WR-CALNAME:SpacePolicyOnline.com
X-ORIGINAL-URL:https://spacepolicyonline.com
X-WR-CALDESC:Events for SpacePolicyOnline.com
REFRESH-INTERVAL;VALUE=DURATION:PT1H
X-Robots-Tag:noindex
X-PUBLISHED-TTL:PT1H
BEGIN:VTIMEZONE
TZID:America/New_York
BEGIN:DAYLIGHT
TZOFFSETFROM:-0500
TZOFFSETTO:-0400
TZNAME:EDT
DTSTART:20240310T070000
END:DAYLIGHT
BEGIN:STANDARD
TZOFFSETFROM:-0400
TZOFFSETTO:-0500
TZNAME:EST
DTSTART:20241103T060000
END:STANDARD
BEGIN:DAYLIGHT
TZOFFSETFROM:-0500
TZOFFSETTO:-0400
TZNAME:EDT
DTSTART:20250309T070000
END:DAYLIGHT
BEGIN:STANDARD
TZOFFSETFROM:-0400
TZOFFSETTO:-0500
TZNAME:EST
DTSTART:20251102T060000
END:STANDARD
BEGIN:DAYLIGHT
TZOFFSETFROM:-0500
TZOFFSETTO:-0400
TZNAME:EDT
DTSTART:20260308T070000
END:DAYLIGHT
BEGIN:STANDARD
TZOFFSETFROM:-0400
TZOFFSETTO:-0500
TZNAME:EST
DTSTART:20261101T060000
END:STANDARD
END:VTIMEZONE
BEGIN:VEVENT
DTSTART;TZID=America/New_York:20250409T100000
DTEND;TZID=America/New_York:20250409T230000
DTSTAMP:20260419T205306
CREATED:20250406T194658Z
LAST-MODIFIED:20250406T194658Z
UID:79850-1744192800-1744239600@spacepolicyonline.com
SUMMARY:SENATE COMMITTEE CMTE HRG ON NOMINATION OF JARED ISAACMAN FOR NASA ADMINISTRATOR\, Apr 9\, 2025\, DC\, 10:00 am ET
DESCRIPTION:The Senate Commerce\, Science\, and Transportation Committee will hold a hearing on April 9\, 2025 in 253 Russell Senate Office Building at 10:00 am ET on the nomination of Jared Isaacman to be Administrator of NASA. \nThe hearing will be webcast on the committee’s website. \nThe committee will meet first in executive session to vote on an unrelated nomination. \nIsaacman’s nomination then will be considered along with that of Olivia Trusty to be a Commissioner of the Federal Communications Commission.
URL:https://spacepolicyonline.com/events/senate-committee-cmte-hrg-on-nomination-of-jared-isaacman-for-nasa-administrator-apr-9-2025-dc-1000-am-et/
END:VEVENT
END:VCALENDAR