BEGIN:VCALENDAR
VERSION:2.0
PRODID:-//SpacePolicyOnline.com - ECPv6.15.11//NONSGML v1.0//EN
CALSCALE:GREGORIAN
METHOD:PUBLISH
X-WR-CALNAME:SpacePolicyOnline.com
X-ORIGINAL-URL:https://spacepolicyonline.com
X-WR-CALDESC:Events for SpacePolicyOnline.com
REFRESH-INTERVAL;VALUE=DURATION:PT1H
X-Robots-Tag:noindex
X-PUBLISHED-TTL:PT1H
BEGIN:VTIMEZONE
TZID:America/New_York
BEGIN:DAYLIGHT
TZOFFSETFROM:-0500
TZOFFSETTO:-0400
TZNAME:EDT
DTSTART:20160313T070000
END:DAYLIGHT
BEGIN:STANDARD
TZOFFSETFROM:-0400
TZOFFSETTO:-0500
TZNAME:EST
DTSTART:20161106T060000
END:STANDARD
BEGIN:DAYLIGHT
TZOFFSETFROM:-0500
TZOFFSETTO:-0400
TZNAME:EDT
DTSTART:20170312T070000
END:DAYLIGHT
BEGIN:STANDARD
TZOFFSETFROM:-0400
TZOFFSETTO:-0500
TZNAME:EST
DTSTART:20171105T060000
END:STANDARD
BEGIN:DAYLIGHT
TZOFFSETFROM:-0500
TZOFFSETTO:-0400
TZNAME:EDT
DTSTART:20180311T070000
END:DAYLIGHT
BEGIN:STANDARD
TZOFFSETFROM:-0400
TZOFFSETTO:-0500
TZNAME:EST
DTSTART:20181104T060000
END:STANDARD
END:VTIMEZONE
BEGIN:VEVENT
DTSTART;TZID=America/New_York:20171219T030000
DTEND;TZID=America/New_York:20171219T170000
DTSTAMP:20260425T144038
CREATED:20171206T181255Z
LAST-MODIFIED:20171206T181255Z
UID:13278-1513652400-1513702800@spacepolicyonline.com
SUMMARY:SOYUZ MS-07 DOCKING WITH ISS\, Dec 19\, 2017\, 3:42 am ET (NASA TV begins 3:00 am ET)
DESCRIPTION:Three new crew members will arrive at the International Space Station (ISS) in their Soyuz MS-07 spacecraft on December 19\, 2017\, two days after launch on December 17. \nDocking is scheduled for 3:42 am ET.  NASA TV coverage begins at 3:00 am ET. \nThe three new crewmembers are: \n\nScott “Maker” Tingle\, NASA\nNorishige “Nimo” Kanai\, Japan Aerospace Exploration Agency (JAXA)\nAnton Shkaplerov\, Roscosmos\n\nThis is the first flight for Tingle and Kanai\, and the third for Shkaplerov.
URL:https://spacepolicyonline.com/events/soyuz-ms-07-docking-with-iss-dec-19-2017-342-am-et-nasa-tv-begins-300-am-et/
END:VEVENT
END:VCALENDAR