BEGIN:VCALENDAR
VERSION:2.0
PRODID:-//SpacePolicyOnline.com - ECPv6.15.11//NONSGML v1.0//EN
CALSCALE:GREGORIAN
METHOD:PUBLISH
X-WR-CALNAME:SpacePolicyOnline.com
X-ORIGINAL-URL:https://spacepolicyonline.com
X-WR-CALDESC:Events for SpacePolicyOnline.com
REFRESH-INTERVAL;VALUE=DURATION:PT1H
X-Robots-Tag:noindex
X-PUBLISHED-TTL:PT1H
BEGIN:VTIMEZONE
TZID:America/New_York
BEGIN:DAYLIGHT
TZOFFSETFROM:-0500
TZOFFSETTO:-0400
TZNAME:EDT
DTSTART:20160313T070000
END:DAYLIGHT
BEGIN:STANDARD
TZOFFSETFROM:-0400
TZOFFSETTO:-0500
TZNAME:EST
DTSTART:20161106T060000
END:STANDARD
BEGIN:DAYLIGHT
TZOFFSETFROM:-0500
TZOFFSETTO:-0400
TZNAME:EDT
DTSTART:20170312T070000
END:DAYLIGHT
BEGIN:STANDARD
TZOFFSETFROM:-0400
TZOFFSETTO:-0500
TZNAME:EST
DTSTART:20171105T060000
END:STANDARD
BEGIN:DAYLIGHT
TZOFFSETFROM:-0500
TZOFFSETTO:-0400
TZNAME:EDT
DTSTART:20180311T070000
END:DAYLIGHT
BEGIN:STANDARD
TZOFFSETFROM:-0400
TZOFFSETTO:-0500
TZNAME:EST
DTSTART:20181104T060000
END:STANDARD
END:VTIMEZONE
BEGIN:VEVENT
DTSTART;TZID=America/New_York:20171217T010000
DTEND;TZID=America/New_York:20171217T230000
DTSTAMP:20260425T171500
CREATED:20171011T210955Z
LAST-MODIFIED:20171206T180910Z
UID:11054-1513472400-1513551600@spacepolicyonline.com
SUMMARY:Soyuz MS-07 Launch to ISS\, Dec 17\, 2017\, Kazakhstan\, 2:21 am ET (NASA TV begins 1:15 am ET)
DESCRIPTION:Three new International Space Station (ISS) crew members will launch to the ISS on Soyuz MS-07 on December 17\, 2017 from the Baikonur Cosmodrome in Kazakhstan.  Launch is scheduled for 2:21 am ET.  NASA TV coverage begins at 1:15 am ET. \nThey are: \n\nScott “Maker” Tingle\, NASA\nNorishige “Nimo” Kanai\, Japan Aerospace Exploration Agency (JAXA)\nAnton Shkaplerov\, Roscosmos\n\nAssuming the launch takes place as planned\, docking with the ISS will be on December 19 at 3:42 am ET.  NASA TV coverage begins at 3:00 am ET. \nThis is the first flight for Tingle and Kanai\, and the third for Shkaplerov.  They will remain on ISS for about four months
URL:https://spacepolicyonline.com/events/soyuz-ms-07-launch-to-iss-dec-17-2017-kazakhstan/
END:VEVENT
END:VCALENDAR