BEGIN:VCALENDAR
VERSION:2.0
PRODID:-//SpacePolicyOnline.com - ECPv6.15.11//NONSGML v1.0//EN
CALSCALE:GREGORIAN
METHOD:PUBLISH
X-WR-CALNAME:SpacePolicyOnline.com
X-ORIGINAL-URL:https://spacepolicyonline.com
X-WR-CALDESC:Events for SpacePolicyOnline.com
REFRESH-INTERVAL;VALUE=DURATION:PT1H
X-Robots-Tag:noindex
X-PUBLISHED-TTL:PT1H
BEGIN:VTIMEZONE
TZID:America/New_York
BEGIN:DAYLIGHT
TZOFFSETFROM:-0500
TZOFFSETTO:-0400
TZNAME:EDT
DTSTART:20220313T070000
END:DAYLIGHT
BEGIN:STANDARD
TZOFFSETFROM:-0400
TZOFFSETTO:-0500
TZNAME:EST
DTSTART:20221106T060000
END:STANDARD
BEGIN:DAYLIGHT
TZOFFSETFROM:-0500
TZOFFSETTO:-0400
TZNAME:EDT
DTSTART:20230312T070000
END:DAYLIGHT
BEGIN:STANDARD
TZOFFSETFROM:-0400
TZOFFSETTO:-0500
TZNAME:EST
DTSTART:20231105T060000
END:STANDARD
BEGIN:DAYLIGHT
TZOFFSETFROM:-0500
TZOFFSETTO:-0400
TZNAME:EDT
DTSTART:20240310T070000
END:DAYLIGHT
BEGIN:STANDARD
TZOFFSETFROM:-0400
TZOFFSETTO:-0500
TZNAME:EST
DTSTART:20241103T060000
END:STANDARD
END:VTIMEZONE
BEGIN:VEVENT
DTSTART;TZID=America/New_York:20230726T140000
DTEND;TZID=America/New_York:20230726T230000
DTSTAMP:20260421T054325
CREATED:20230715T190312Z
LAST-MODIFIED:20230721T202618Z
UID:63505-1690380000-1690412400@spacepolicyonline.com
SUMMARY:SPACE AND NATIONAL SECURITY (Hudson Inst)\, July 26\, 2023\, DC\, 2:00-3:00 pm ET (livestreamed)
DESCRIPTION:The Hudson Institute will hold a seminar on July 26\, 2023 from 2:00-3:00 pm ET at its offices at 1201 Pennsylvania Ave.\, NW\, Washington\, DC.  The event will be livestreamed. \nThe topic is “Space and National Security” and the speakers are: \n\nEven Rogers\, CEO\, True Anomaly\nDean C. Bellamy\, Executive Vice President of National Security Space at Redwire\nJason Kim\, Senior Policy Analyst\, National Oceanic and Atmospheric Administration\nArthur Herman\, Senior Fellow\nPeter Huessy\, Senior Fellow\nChris Shank\, Vice President of Defense and Space Programs\, Maxar\n\nMore information is on the event’s website.
URL:https://spacepolicyonline.com/events/space-and-national-security-hudson-inst-july-26-2023-dc-200-300-pm-et/
END:VEVENT
END:VCALENDAR