BEGIN:VCALENDAR
VERSION:2.0
PRODID:-//SpacePolicyOnline.com - ECPv6.15.11//NONSGML v1.0//EN
CALSCALE:GREGORIAN
METHOD:PUBLISH
X-WR-CALNAME:SpacePolicyOnline.com
X-ORIGINAL-URL:https://spacepolicyonline.com
X-WR-CALDESC:Events for SpacePolicyOnline.com
REFRESH-INTERVAL;VALUE=DURATION:PT1H
X-Robots-Tag:noindex
X-PUBLISHED-TTL:PT1H
BEGIN:VTIMEZONE
TZID:America/New_York
BEGIN:DAYLIGHT
TZOFFSETFROM:-0500
TZOFFSETTO:-0400
TZNAME:EDT
DTSTART:20210314T070000
END:DAYLIGHT
BEGIN:STANDARD
TZOFFSETFROM:-0400
TZOFFSETTO:-0500
TZNAME:EST
DTSTART:20211107T060000
END:STANDARD
BEGIN:DAYLIGHT
TZOFFSETFROM:-0500
TZOFFSETTO:-0400
TZNAME:EDT
DTSTART:20220313T070000
END:DAYLIGHT
BEGIN:STANDARD
TZOFFSETFROM:-0400
TZOFFSETTO:-0500
TZNAME:EST
DTSTART:20221106T060000
END:STANDARD
BEGIN:DAYLIGHT
TZOFFSETFROM:-0500
TZOFFSETTO:-0400
TZNAME:EDT
DTSTART:20230312T070000
END:DAYLIGHT
BEGIN:STANDARD
TZOFFSETFROM:-0400
TZOFFSETTO:-0500
TZNAME:EST
DTSTART:20231105T060000
END:STANDARD
END:VTIMEZONE
BEGIN:VEVENT
DTSTART;TZID=America/New_York:20221027T103000
DTEND;TZID=America/New_York:20221027T230000
DTSTAMP:20260424T013621
CREATED:20221027T024711Z
LAST-MODIFIED:20221027T024711Z
UID:57250-1666866600-1666911600@spacepolicyonline.com
SUMMARY:SPACE AND THE INTERNET: WASHINGTON POST LIVE WITH AMAZON'S DAVID LIMP\, Oct 27\, 2022\, virtual\, 10:30 am ET
DESCRIPTION:Christian Davenport of the Washington Post will interview David Limp\, Senior Vice President Devices & Services\, Amazon\, on Washington Post Live on October 27\, 2022 at 10:30 am ET. \nLimp will discuss “Space and the Internet” and Amazon’s plan to build a satellite Internet system\, Project Kuiper\, to compete with SpaceX’s Starlink and others. \nMore information and registration instructions are on the event’s website.
URL:https://spacepolicyonline.com/events/space-and-the-internet-washington-post-live-with-amazons-david-limp-oct-27-2022-virtual-1030-am-et/
END:VEVENT
END:VCALENDAR