BEGIN:VCALENDAR
VERSION:2.0
PRODID:-//SpacePolicyOnline.com - ECPv6.15.11//NONSGML v1.0//EN
CALSCALE:GREGORIAN
METHOD:PUBLISH
X-WR-CALNAME:SpacePolicyOnline.com
X-ORIGINAL-URL:https://spacepolicyonline.com
X-WR-CALDESC:Events for SpacePolicyOnline.com
REFRESH-INTERVAL;VALUE=DURATION:PT1H
X-Robots-Tag:noindex
X-PUBLISHED-TTL:PT1H
BEGIN:VTIMEZONE
TZID:America/New_York
BEGIN:DAYLIGHT
TZOFFSETFROM:-0500
TZOFFSETTO:-0400
TZNAME:EDT
DTSTART:20180311T070000
END:DAYLIGHT
BEGIN:STANDARD
TZOFFSETFROM:-0400
TZOFFSETTO:-0500
TZNAME:EST
DTSTART:20181104T060000
END:STANDARD
BEGIN:DAYLIGHT
TZOFFSETFROM:-0500
TZOFFSETTO:-0400
TZNAME:EDT
DTSTART:20190310T070000
END:DAYLIGHT
BEGIN:STANDARD
TZOFFSETFROM:-0400
TZOFFSETTO:-0500
TZNAME:EST
DTSTART:20191103T060000
END:STANDARD
BEGIN:DAYLIGHT
TZOFFSETFROM:-0500
TZOFFSETTO:-0400
TZNAME:EDT
DTSTART:20200308T070000
END:DAYLIGHT
BEGIN:STANDARD
TZOFFSETFROM:-0400
TZOFFSETTO:-0500
TZNAME:EST
DTSTART:20201101T060000
END:STANDARD
END:VTIMEZONE
BEGIN:VEVENT
DTSTART;TZID=America/New_York:20191009T083000
DTEND;TZID=America/New_York:20191009T230000
DTSTAMP:20260420T110114
CREATED:20190913T214632Z
LAST-MODIFIED:20191006T143211Z
UID:28892-1570609800-1570662000@spacepolicyonline.com
SUMMARY:SPACE BREAKFAST WITH BRIG GEN DOUG SCHIESS (Mitchell Inst)\, Oct 9\, 2019\, DC\, 8:30 am ET
DESCRIPTION:The Air Force Association’s Mitchell Institute for Aerospace Studies will hold a Space Breakfast with Brig. Gen. Doug Schiess at the Capitol Hill Club\, 300 1st St.\, S.E.\, Washington\, DC from 8:30-9:30 am ET. \nMore information is on the Mitchell Institute’s website. \nSchiess is Commander\, Air Force 45th Space Wing\, and Director\, Eastern Range\, Patrick Air Force Base\, FL.  His topic is “Launch Ranges.” \n 
URL:https://spacepolicyonline.com/events/space-breakfast-with-brig-gen-doug-schiess-mitchell-inst-oct-9-2019-dc-830-am-et/
END:VEVENT
END:VCALENDAR