BEGIN:VCALENDAR
VERSION:2.0
PRODID:-//SpacePolicyOnline.com - ECPv6.15.11//NONSGML v1.0//EN
CALSCALE:GREGORIAN
METHOD:PUBLISH
X-WR-CALNAME:SpacePolicyOnline.com
X-ORIGINAL-URL:https://spacepolicyonline.com
X-WR-CALDESC:Events for SpacePolicyOnline.com
REFRESH-INTERVAL;VALUE=DURATION:PT1H
X-Robots-Tag:noindex
X-PUBLISHED-TTL:PT1H
BEGIN:VTIMEZONE
TZID:America/New_York
BEGIN:DAYLIGHT
TZOFFSETFROM:-0500
TZOFFSETTO:-0400
TZNAME:EDT
DTSTART:20250309T070000
END:DAYLIGHT
BEGIN:STANDARD
TZOFFSETFROM:-0400
TZOFFSETTO:-0500
TZNAME:EST
DTSTART:20251102T060000
END:STANDARD
BEGIN:DAYLIGHT
TZOFFSETFROM:-0500
TZOFFSETTO:-0400
TZNAME:EDT
DTSTART:20260308T070000
END:DAYLIGHT
BEGIN:STANDARD
TZOFFSETFROM:-0400
TZOFFSETTO:-0500
TZNAME:EST
DTSTART:20261101T060000
END:STANDARD
BEGIN:DAYLIGHT
TZOFFSETFROM:-0500
TZOFFSETTO:-0400
TZNAME:EDT
DTSTART:20270314T070000
END:DAYLIGHT
BEGIN:STANDARD
TZOFFSETFROM:-0400
TZOFFSETTO:-0500
TZNAME:EST
DTSTART:20271107T060000
END:STANDARD
END:VTIMEZONE
BEGIN:VEVENT
DTSTART;TZID=America/New_York:20260108T150000
DTEND;TZID=America/New_York:20260108T230000
DTSTAMP:20260419T193405
CREATED:20251228T165443Z
LAST-MODIFIED:20260103T220836Z
UID:85835-1767884400-1767913200@spacepolicyonline.com
SUMMARY:SPACE DIPLOMACY IN AN ERA OF STRATEGIC COMPETITION (Atl Council)\, Jan 8\, 2026\, DC/virtual\, 3:00 pm ET
DESCRIPTION:The Atlantic Council’s GeoTech Center and Symphony Space will hold a meeting on January 8\, 2026 at 3:00 pm ET on “Cosmic Coordination: Space Diplomacy in an Era of Strategic Competition.” \nThe in-person event is at the Atlantic Council’s headquarters\, 1400 L St.\, NW\, Washington\, DC\, and it will also air on YouTube. \nIn addition to six speakers from the Atlantic Council and Symphony Space\, other participants include representatives from the U.S. State Department\, NOAA’s Office of Space Commerce\, the Japan Aerospace Exploration Agency (JAXA)\, the United Arab Emirates (UAE) Embassy\, the Embassy of the Kingdom of the Netherlands\, Astroscale US\, Axiom Space\, Arca Stella LLC\, and Eutelsat. \nThe full list of speakers\, the agenda\, and the YouTube link are on the event’s website\, which says: \nOn Thursday\, January 8 at 3:00 p.m. ET\, the Atlantic Council’s GeoTech Center and Symphony Space will host an event focusing on space diplomacy in the modern geopolitical landscape. \nThis event will explore how diplomatic\, regulatory\, and multilateral frameworks are evolving to keep pace with the rapid commercialization of space; opportunities to strengthen international cooperation\, especially among emerging and established spacefaring nations; and practical ways to bridge technical\, commercial\, and policy communities to ensure space remains a domain of opportunity and cooperation for all. \nNew policy: In-person attendees will be required to show photo ID upon arrival\, and no on-site registration will be permitted. Guests will not be admitted later than twenty minutes after the event’s start time. Registration for this event will close at 5:00 p.m. ET the day prior.  \n 
URL:https://spacepolicyonline.com/events/space-diplomacy-in-an-era-of-strategic-competition-atl-council-jan-8-2026-dc-virtual-300-pm-et/
END:VEVENT
END:VCALENDAR