BEGIN:VCALENDAR
VERSION:2.0
PRODID:-//SpacePolicyOnline.com - ECPv6.15.11//NONSGML v1.0//EN
CALSCALE:GREGORIAN
METHOD:PUBLISH
X-WR-CALNAME:SpacePolicyOnline.com
X-ORIGINAL-URL:https://spacepolicyonline.com
X-WR-CALDESC:Events for SpacePolicyOnline.com
REFRESH-INTERVAL;VALUE=DURATION:PT1H
X-Robots-Tag:noindex
X-PUBLISHED-TTL:PT1H
BEGIN:VTIMEZONE
TZID:America/New_York
BEGIN:DAYLIGHT
TZOFFSETFROM:-0500
TZOFFSETTO:-0400
TZNAME:EDT
DTSTART:20190310T070000
END:DAYLIGHT
BEGIN:STANDARD
TZOFFSETFROM:-0400
TZOFFSETTO:-0500
TZNAME:EST
DTSTART:20191103T060000
END:STANDARD
BEGIN:DAYLIGHT
TZOFFSETFROM:-0500
TZOFFSETTO:-0400
TZNAME:EDT
DTSTART:20200308T070000
END:DAYLIGHT
BEGIN:STANDARD
TZOFFSETFROM:-0400
TZOFFSETTO:-0500
TZNAME:EST
DTSTART:20201101T060000
END:STANDARD
BEGIN:DAYLIGHT
TZOFFSETFROM:-0500
TZOFFSETTO:-0400
TZNAME:EDT
DTSTART:20210314T070000
END:DAYLIGHT
BEGIN:STANDARD
TZOFFSETFROM:-0400
TZOFFSETTO:-0500
TZNAME:EST
DTSTART:20211107T060000
END:STANDARD
END:VTIMEZONE
BEGIN:VEVENT
DTSTART;TZID=America/New_York:20200930T120000
DTEND;TZID=America/New_York:20200930T230000
DTSTAMP:20260419T090215
CREATED:20200926T172657Z
LAST-MODIFIED:20200927T182407Z
UID:37941-1601467200-1601506800@spacepolicyonline.com
SUMMARY:SPACE ECONOMICS: BUILDING SUSTAINABLE SPACE INFRASTRUCTURE (Atlantic Council)\, Sept 30\, 2020\, virtual\, 12:00 pm ET
DESCRIPTION:The Atlantic Council will hold a webinar on September 30\, 2020 at 12:00 pm ET on “Space Economics: Building Sustainable Space Infrastructure.” \nParticipants are: \nReggie Brothers\, PhD\nNonresident Senior Fellow\, GeoTech Center\nAtlantic Council;\nCEO\nNuWave Solutions \nPeter Cannito\nOperating Partner\nAeroEquity Industrial \nJoanne Lo\, PhD\nCEO and Cofounder\nElysian Labs\, Inc. \nDavid Bray\, PhD (host)\nDirector\, GeoTech Center\nAtlantic Council \n  \nMore information and registration instructions are on the event’s website.
URL:https://spacepolicyonline.com/events/space-economics-building-sustainable-space-infrastructure-atlantic-council-sept-30-2020-virtual-100-pm-et/
END:VEVENT
END:VCALENDAR