BEGIN:VCALENDAR
VERSION:2.0
PRODID:-//SpacePolicyOnline.com - ECPv6.15.11//NONSGML v1.0//EN
CALSCALE:GREGORIAN
METHOD:PUBLISH
X-WR-CALNAME:SpacePolicyOnline.com
X-ORIGINAL-URL:https://spacepolicyonline.com
X-WR-CALDESC:Events for SpacePolicyOnline.com
REFRESH-INTERVAL;VALUE=DURATION:PT1H
X-Robots-Tag:noindex
X-PUBLISHED-TTL:PT1H
BEGIN:VTIMEZONE
TZID:America/New_York
BEGIN:DAYLIGHT
TZOFFSETFROM:-0500
TZOFFSETTO:-0400
TZNAME:EDT
DTSTART:20190310T070000
END:DAYLIGHT
BEGIN:STANDARD
TZOFFSETFROM:-0400
TZOFFSETTO:-0500
TZNAME:EST
DTSTART:20191103T060000
END:STANDARD
BEGIN:DAYLIGHT
TZOFFSETFROM:-0500
TZOFFSETTO:-0400
TZNAME:EDT
DTSTART:20200308T070000
END:DAYLIGHT
BEGIN:STANDARD
TZOFFSETFROM:-0400
TZOFFSETTO:-0500
TZNAME:EST
DTSTART:20201101T060000
END:STANDARD
BEGIN:DAYLIGHT
TZOFFSETFROM:-0500
TZOFFSETTO:-0400
TZNAME:EDT
DTSTART:20210314T070000
END:DAYLIGHT
BEGIN:STANDARD
TZOFFSETFROM:-0400
TZOFFSETTO:-0500
TZNAME:EST
DTSTART:20211107T060000
END:STANDARD
END:VTIMEZONE
BEGIN:VEVENT
DTSTART;TZID=America/New_York:20201208T120000
DTEND;TZID=America/New_York:20201208T230000
DTSTAMP:20260419T113512
CREATED:20201205T221341Z
LAST-MODIFIED:20201205T221341Z
UID:39674-1607428800-1607468400@spacepolicyonline.com
SUMMARY:SPACE FORCE: AHEAD OF ITS TIME OR DREADFULLY PREMATURE? (Cato Inst)\, Dec 8\, 2020\, virtual\, 12:00 pm ET
DESCRIPTION:The Cato Institute will hold a webinar on December 8\, 2020 at 12:00 pm ET on “Space Force: Ahead of Its Time Or Dreadfully Premature? \nParticipants are: \n\nRobert Farley (@drfarls)\, Senior Lecturer\, University of Kentucky\, who has written a Cato Institute policy analysis on the topic that will be the basis of the discussion;\nKaitlyn Johnson (@Kaitlyn_Johns0n)\, Deputy Director and Fellow\, Aerospace Security Project\, Center for Strategic and International Studies;\nBrian Weeden (@brianweeden)\, Director of Program Planning\, Secure World Foundation;\nEric Gomez (@EricGomezAsia)\, Director of Defense Policy Studies\, Cato Institute (moderator)\n\nMore information is on the event’s website.
URL:https://spacepolicyonline.com/events/space-force-ahead-of-its-time-or-dreadfully-premature-cato-inst-dec-8-2020-virtual-1200-pm-et/
END:VEVENT
END:VCALENDAR