BEGIN:VCALENDAR
VERSION:2.0
PRODID:-//SpacePolicyOnline.com - ECPv6.15.11//NONSGML v1.0//EN
CALSCALE:GREGORIAN
METHOD:PUBLISH
X-WR-CALNAME:SpacePolicyOnline.com
X-ORIGINAL-URL:https://spacepolicyonline.com
X-WR-CALDESC:Events for SpacePolicyOnline.com
REFRESH-INTERVAL;VALUE=DURATION:PT1H
X-Robots-Tag:noindex
X-PUBLISHED-TTL:PT1H
BEGIN:VTIMEZONE
TZID:America/New_York
BEGIN:DAYLIGHT
TZOFFSETFROM:-0500
TZOFFSETTO:-0400
TZNAME:EDT
DTSTART:20240310T070000
END:DAYLIGHT
BEGIN:STANDARD
TZOFFSETFROM:-0400
TZOFFSETTO:-0500
TZNAME:EST
DTSTART:20241103T060000
END:STANDARD
BEGIN:DAYLIGHT
TZOFFSETFROM:-0500
TZOFFSETTO:-0400
TZNAME:EDT
DTSTART:20250309T070000
END:DAYLIGHT
BEGIN:STANDARD
TZOFFSETFROM:-0400
TZOFFSETTO:-0500
TZNAME:EST
DTSTART:20251102T060000
END:STANDARD
BEGIN:DAYLIGHT
TZOFFSETFROM:-0500
TZOFFSETTO:-0400
TZNAME:EDT
DTSTART:20260308T070000
END:DAYLIGHT
BEGIN:STANDARD
TZOFFSETFROM:-0400
TZOFFSETTO:-0500
TZNAME:EST
DTSTART:20261101T060000
END:STANDARD
END:VTIMEZONE
BEGIN:VEVENT
DTSTART;TZID=America/New_York:20250717T130000
DTEND;TZID=America/New_York:20250717T230000
DTSTAMP:20260419T131015
CREATED:20250711T002458Z
LAST-MODIFIED:20250711T002458Z
UID:82456-1752757200-1752793200@spacepolicyonline.com
SUMMARY:SPACE FORCE BUDGET (Space News)\, July 17\, 2025\, virtual\, 1:00-2:00 pm ET
DESCRIPTION:Space News will hold a webinar on July 17\, 2025 from 1:00-2:00 pm ET to discuss the Space Force Budget.  More information in on the event’s website\, which says: \nParsing the Space Force’s budget each year is a difficult task. \nThe FY2026 budget is more complicated and more difficult to grasp due in part to the reconciliation process lawmakers used as a way to pass President Trump’s so-called “Big Beautiful Bill.” \nOne part is clear: the Space Force could end up with its largest budget to date in its short history. \nBut there’s much to be decided. \nIn this webinar\, we will discuss the fiscal year 2026 budget\, what it means for the Space Force\, how it speaks to the Trump administration’s priorities for the service\, what it means for Golden Dome and how to understand the funding proposals for space programs. \nParticipants are:
URL:https://spacepolicyonline.com/events/space-force-budget-space-news-july-17-2025-virtual-100-200-pm-et/
END:VEVENT
END:VCALENDAR