BEGIN:VCALENDAR
VERSION:2.0
PRODID:-//SpacePolicyOnline.com - ECPv6.15.11//NONSGML v1.0//EN
CALSCALE:GREGORIAN
METHOD:PUBLISH
X-WR-CALNAME:SpacePolicyOnline.com
X-ORIGINAL-URL:https://spacepolicyonline.com
X-WR-CALDESC:Events for SpacePolicyOnline.com
REFRESH-INTERVAL;VALUE=DURATION:PT1H
X-Robots-Tag:noindex
X-PUBLISHED-TTL:PT1H
BEGIN:VTIMEZONE
TZID:America/New_York
BEGIN:DAYLIGHT
TZOFFSETFROM:-0500
TZOFFSETTO:-0400
TZNAME:EDT
DTSTART:20250309T070000
END:DAYLIGHT
BEGIN:STANDARD
TZOFFSETFROM:-0400
TZOFFSETTO:-0500
TZNAME:EST
DTSTART:20251102T060000
END:STANDARD
BEGIN:DAYLIGHT
TZOFFSETFROM:-0500
TZOFFSETTO:-0400
TZNAME:EDT
DTSTART:20260308T070000
END:DAYLIGHT
BEGIN:STANDARD
TZOFFSETFROM:-0400
TZOFFSETTO:-0500
TZNAME:EST
DTSTART:20261101T060000
END:STANDARD
BEGIN:DAYLIGHT
TZOFFSETFROM:-0500
TZOFFSETTO:-0400
TZNAME:EDT
DTSTART:20270314T070000
END:DAYLIGHT
BEGIN:STANDARD
TZOFFSETFROM:-0400
TZOFFSETTO:-0500
TZNAME:EST
DTSTART:20271107T060000
END:STANDARD
END:VTIMEZONE
BEGIN:VEVENT
DTSTART;TZID=America/New_York:20260519T080000
DTEND;TZID=America/New_York:20260519T230000
DTSTAMP:20260419T181101
CREATED:20260418T213658Z
LAST-MODIFIED:20260418T213658Z
UID:88371-1779177600-1779231600@spacepolicyonline.com
SUMMARY:SPACE INDUSTRY FORUM 2026 (GSOA/NOVASPACE)\, May 19\, 2026\, Singapore
DESCRIPTION:GSOA and Novaspace will hold the Space Industry Forum 2026 in Singapore on May 19\, 2026. \nMore information is on the event’s website\, which says in part: \nGSOA and Novaspace announce the inaugural edition of the Space Industry Forum (SIF)\, a new flagship event co-organized by both organizations\, taking place on May 19\, 2026\, at The Fullerton Hotel in Singapore.  \nSIF is set to bring together more than 200 senior executives\, policymakers\, and industry leaders from over 20 countries\, SIF will set the agenda for the space and satellite sector ahead of Asia Tech x Singapore – positioning itself as the key gathering to open a week of high-level industry engagement.  \nBuilding on the legacy of the AVIA Satellite Industry Forum and CASBAA – and combining Novaspace’s long-standing role in convening global space leaders and delivering market intelligence with GSOA’s leadership in representing and advancing the satellite ecosystem – SIF introduces a renewed platform for decision-makers to connect\, exchange\, and shape the future of the global space industry.  \n  \n 
URL:https://spacepolicyonline.com/events/space-industry-forum-2026-gsoa-novaspace-may-19-2026-singapore/
END:VEVENT
END:VCALENDAR