BEGIN:VCALENDAR
VERSION:2.0
PRODID:-//SpacePolicyOnline.com - ECPv6.15.11//NONSGML v1.0//EN
CALSCALE:GREGORIAN
METHOD:PUBLISH
X-WR-CALNAME:SpacePolicyOnline.com
X-ORIGINAL-URL:https://spacepolicyonline.com
X-WR-CALDESC:Events for SpacePolicyOnline.com
REFRESH-INTERVAL;VALUE=DURATION:PT1H
X-Robots-Tag:noindex
X-PUBLISHED-TTL:PT1H
BEGIN:VTIMEZONE
TZID:America/New_York
BEGIN:DAYLIGHT
TZOFFSETFROM:-0500
TZOFFSETTO:-0400
TZNAME:EDT
DTSTART:20160313T070000
END:DAYLIGHT
BEGIN:STANDARD
TZOFFSETFROM:-0400
TZOFFSETTO:-0500
TZNAME:EST
DTSTART:20161106T060000
END:STANDARD
BEGIN:DAYLIGHT
TZOFFSETFROM:-0500
TZOFFSETTO:-0400
TZNAME:EDT
DTSTART:20170312T070000
END:DAYLIGHT
BEGIN:STANDARD
TZOFFSETFROM:-0400
TZOFFSETTO:-0500
TZNAME:EST
DTSTART:20171105T060000
END:STANDARD
BEGIN:DAYLIGHT
TZOFFSETFROM:-0500
TZOFFSETTO:-0400
TZNAME:EDT
DTSTART:20180311T070000
END:DAYLIGHT
BEGIN:STANDARD
TZOFFSETFROM:-0400
TZOFFSETTO:-0500
TZNAME:EST
DTSTART:20181104T060000
END:STANDARD
END:VTIMEZONE
BEGIN:VEVENT
DTSTART;TZID=America/New_York:20170915T120000
DTEND;TZID=America/New_York:20170915T170000
DTSTAMP:20260421T093131
CREATED:20170727T114440Z
LAST-MODIFIED:20170915T142128Z
UID:8332-1505476800-1505494800@spacepolicyonline.com
SUMMARY:Outer Space as Commercial Domain and Warfighting Domain (UNL)\, Sept 15\, 2017\, National Press Club\, Washington\, DC
DESCRIPTION:The University of Nebraska (UNL) College of Law will hold its annual Washington space law event at the National Press Club on September 15\, 2017 from 12:00 – 5:00 pm ET.  Lunch begins at 11:45 am ET; presentations begin at 12:00 pm ET. \nThis year’s topic is “Outer Space as a Commercial Domain and a Warfighting Domain:  Emerging Issues in Space Law.” \nThe agenda is posted on the UNL website.  Registration by September 8 is requested. \nThe event will NOT be webcast.
URL:https://spacepolicyonline.com/events/space-law-event-sept-2017-dc/
END:VEVENT
END:VCALENDAR