BEGIN:VCALENDAR
VERSION:2.0
PRODID:-//SpacePolicyOnline.com - ECPv6.15.11//NONSGML v1.0//EN
CALSCALE:GREGORIAN
METHOD:PUBLISH
X-WR-CALNAME:SpacePolicyOnline.com
X-ORIGINAL-URL:https://spacepolicyonline.com
X-WR-CALDESC:Events for SpacePolicyOnline.com
REFRESH-INTERVAL;VALUE=DURATION:PT1H
X-Robots-Tag:noindex
X-PUBLISHED-TTL:PT1H
BEGIN:VTIMEZONE
TZID:America/New_York
BEGIN:DAYLIGHT
TZOFFSETFROM:-0500
TZOFFSETTO:-0400
TZNAME:EDT
DTSTART:20210314T070000
END:DAYLIGHT
BEGIN:STANDARD
TZOFFSETFROM:-0400
TZOFFSETTO:-0500
TZNAME:EST
DTSTART:20211107T060000
END:STANDARD
BEGIN:DAYLIGHT
TZOFFSETFROM:-0500
TZOFFSETTO:-0400
TZNAME:EDT
DTSTART:20220313T070000
END:DAYLIGHT
BEGIN:STANDARD
TZOFFSETFROM:-0400
TZOFFSETTO:-0500
TZNAME:EST
DTSTART:20221106T060000
END:STANDARD
BEGIN:DAYLIGHT
TZOFFSETFROM:-0500
TZOFFSETTO:-0400
TZNAME:EDT
DTSTART:20230312T070000
END:DAYLIGHT
BEGIN:STANDARD
TZOFFSETFROM:-0400
TZOFFSETTO:-0500
TZNAME:EST
DTSTART:20231105T060000
END:STANDARD
END:VTIMEZONE
BEGIN:VEVENT
DTSTART;TZID=America/New_York:20220315T130000
DTEND;TZID=America/New_York:20220315T230000
DTSTAMP:20260419T200737
CREATED:20220312T142001Z
LAST-MODIFIED:20220312T142001Z
UID:51311-1647349200-1647385200@spacepolicyonline.com
SUMMARY:SPACE MATTERS (Space Foundation)\, Mar 15\, 2022\, virtual\, 1:00-2:00 pm ET
DESCRIPTION:The Space Foundation will hold the next in its “Space Matters” webinar series on March 15\, 2022 from 1:00-2:00 pm ET. \nMore information is on its website\, which says: \n\nSpace Matters\nTuesday\, March 15\, 2022 – 1:00 pm – 2:00 pm EDT\n\nYou must have a PRO or PREMIUM Membership to view this content. \n\n\nSpace Foundation’s new series\, “Space Matters\,” convenes well known policy influencers for high level space policy conversations in monthly conversations on emerging topics and trends within the global space economy.
URL:https://spacepolicyonline.com/events/space-matters-space-foundation-mar-15-2022-virtual-100-200-pm-et/
END:VEVENT
END:VCALENDAR