BEGIN:VCALENDAR
VERSION:2.0
PRODID:-//SpacePolicyOnline.com - ECPv6.15.11//NONSGML v1.0//EN
CALSCALE:GREGORIAN
METHOD:PUBLISH
X-WR-CALNAME:SpacePolicyOnline.com
X-ORIGINAL-URL:https://spacepolicyonline.com
X-WR-CALDESC:Events for SpacePolicyOnline.com
REFRESH-INTERVAL;VALUE=DURATION:PT1H
X-Robots-Tag:noindex
X-PUBLISHED-TTL:PT1H
BEGIN:VTIMEZONE
TZID:America/New_York
BEGIN:DAYLIGHT
TZOFFSETFROM:-0500
TZOFFSETTO:-0400
TZNAME:EDT
DTSTART:20210314T070000
END:DAYLIGHT
BEGIN:STANDARD
TZOFFSETFROM:-0400
TZOFFSETTO:-0500
TZNAME:EST
DTSTART:20211107T060000
END:STANDARD
BEGIN:DAYLIGHT
TZOFFSETFROM:-0500
TZOFFSETTO:-0400
TZNAME:EDT
DTSTART:20220313T070000
END:DAYLIGHT
BEGIN:STANDARD
TZOFFSETFROM:-0400
TZOFFSETTO:-0500
TZNAME:EST
DTSTART:20221106T060000
END:STANDARD
BEGIN:DAYLIGHT
TZOFFSETFROM:-0500
TZOFFSETTO:-0400
TZNAME:EDT
DTSTART:20230312T070000
END:DAYLIGHT
BEGIN:STANDARD
TZOFFSETFROM:-0400
TZOFFSETTO:-0500
TZNAME:EST
DTSTART:20231105T060000
END:STANDARD
END:VTIMEZONE
BEGIN:VEVENT
DTSTART;TZID=America/New_York:20220113T130000
DTEND;TZID=America/New_York:20220113T230000
DTSTAMP:20260420T045010
CREATED:20220110T222840Z
LAST-MODIFIED:20220110T223014Z
UID:49688-1642078800-1642114800@spacepolicyonline.com
SUMMARY:"SPACE MATTERS" WITH BOB WALKER\, JIM BRIDENSTINE ET AL (Space Fndtn)\, Jan 13\, 2022\, virtual\, 1:00 pm ET
DESCRIPTION:The Space Foundation is initiating a new “expert panel series” of webinars under the title Space Matters as part of their Symposium 365 program. A paid membership in Symposium 365 is required to watch. \nThe first is on January 13\, 2022 at 1:00 pm ET. \nParticipants are: \n\nThe Honorable Bob Walker – Former U.S. Congressman\, former U.S. House of Representatives’ Committee on Science\, Space and Technology Chairman\, current Wexler & Walker Public Policy Associates Executive Chairman and MoonWalker Associates Founder/CEO\nThe Honorable Jim Bridenstine – Former NASA Administrator\, former U.S. Congressman\, former Naval Aviator\, current Voyager Space Holdings Advisory Board Chairman\nLaetitia Garriott de Cayeux – Global Space Ventures CEO\, NATO Maritime Unmanned Systems Innovation Advisory Board (IAB) member\, Council on Foreign Relations member\nModerated by: Thomas Dorame\, Space Foundation Sr. VP – Symposium 365 Division\n\n \nMore information is on the event’s website.
URL:https://spacepolicyonline.com/events/space-matters-with-bob-walker-jim-bridenstine-et-al-space-fndtn-jan-13-2022-virtual-100-pm-et/
END:VEVENT
END:VCALENDAR