BEGIN:VCALENDAR
VERSION:2.0
PRODID:-//SpacePolicyOnline.com - ECPv6.15.11//NONSGML v1.0//EN
CALSCALE:GREGORIAN
METHOD:PUBLISH
X-WR-CALNAME:SpacePolicyOnline.com
X-ORIGINAL-URL:https://spacepolicyonline.com
X-WR-CALDESC:Events for SpacePolicyOnline.com
REFRESH-INTERVAL;VALUE=DURATION:PT1H
X-Robots-Tag:noindex
X-PUBLISHED-TTL:PT1H
BEGIN:VTIMEZONE
TZID:America/New_York
BEGIN:DAYLIGHT
TZOFFSETFROM:-0500
TZOFFSETTO:-0400
TZNAME:EDT
DTSTART:20220313T070000
END:DAYLIGHT
BEGIN:STANDARD
TZOFFSETFROM:-0400
TZOFFSETTO:-0500
TZNAME:EST
DTSTART:20221106T060000
END:STANDARD
BEGIN:DAYLIGHT
TZOFFSETFROM:-0500
TZOFFSETTO:-0400
TZNAME:EDT
DTSTART:20230312T070000
END:DAYLIGHT
BEGIN:STANDARD
TZOFFSETFROM:-0400
TZOFFSETTO:-0500
TZNAME:EST
DTSTART:20231105T060000
END:STANDARD
BEGIN:DAYLIGHT
TZOFFSETFROM:-0500
TZOFFSETTO:-0400
TZNAME:EDT
DTSTART:20240310T070000
END:DAYLIGHT
BEGIN:STANDARD
TZOFFSETFROM:-0400
TZOFFSETTO:-0500
TZNAME:EST
DTSTART:20241103T060000
END:STANDARD
END:VTIMEZONE
BEGIN:VEVENT
DTSTART;TZID=America/New_York:20230125T170000
DTEND;TZID=America/New_York:20230125T230000
DTSTAMP:20260422T224045
CREATED:20230115T172247Z
LAST-MODIFIED:20230115T173548Z
UID:59319-1674666000-1674687600@spacepolicyonline.com
SUMMARY:SPACE PROPULSION IN THE CISLUNAR ERA (SSPI)\, Jan 25\, 2023\, virtual\, 5:00-7:00 pm ET
DESCRIPTION:SSPI will hold a webinar on January 25\, 2023 from 5:00-7:00 pm ET on “Space Propulsion in the Cislunar Era.” \nMore information and registration information are on the event’s website. \nAs of January 15\, the website lists Stefan Powell\, CEO\, Dawn Aerospace\, as a speaker with more participants to be added “soon.”
URL:https://spacepolicyonline.com/events/space-propulsion-in-the-cislunar-era-sspi-jan-25-2023-virtual-500-700-pm-et/
END:VEVENT
END:VCALENDAR