BEGIN:VCALENDAR
VERSION:2.0
PRODID:-//SpacePolicyOnline.com - ECPv6.15.11//NONSGML v1.0//EN
CALSCALE:GREGORIAN
METHOD:PUBLISH
X-WR-CALNAME:SpacePolicyOnline.com
X-ORIGINAL-URL:https://spacepolicyonline.com
X-WR-CALDESC:Events for SpacePolicyOnline.com
REFRESH-INTERVAL;VALUE=DURATION:PT1H
X-Robots-Tag:noindex
X-PUBLISHED-TTL:PT1H
BEGIN:VTIMEZONE
TZID:America/New_York
BEGIN:DAYLIGHT
TZOFFSETFROM:-0500
TZOFFSETTO:-0400
TZNAME:EDT
DTSTART:20200308T070000
END:DAYLIGHT
BEGIN:STANDARD
TZOFFSETFROM:-0400
TZOFFSETTO:-0500
TZNAME:EST
DTSTART:20201101T060000
END:STANDARD
BEGIN:DAYLIGHT
TZOFFSETFROM:-0500
TZOFFSETTO:-0400
TZNAME:EDT
DTSTART:20210314T070000
END:DAYLIGHT
BEGIN:STANDARD
TZOFFSETFROM:-0400
TZOFFSETTO:-0500
TZNAME:EST
DTSTART:20211107T060000
END:STANDARD
BEGIN:DAYLIGHT
TZOFFSETFROM:-0500
TZOFFSETTO:-0400
TZNAME:EDT
DTSTART:20220313T070000
END:DAYLIGHT
BEGIN:STANDARD
TZOFFSETFROM:-0400
TZOFFSETTO:-0500
TZNAME:EST
DTSTART:20221106T060000
END:STANDARD
END:VTIMEZONE
BEGIN:VEVENT
DTSTART;TZID=America/New_York:20210323T073000
DTEND;TZID=America/New_York:20210325T230000
DTSTAMP:20260420T034613
CREATED:20210221T165928Z
LAST-MODIFIED:20210321T165636Z
UID:41790-1616484600-1616713200@spacepolicyonline.com
SUMMARY:SSB SPACE SCIENCE WEEK (National Academies)\, Mar 23-25\, 2021\, virtual
DESCRIPTION:The Space Studies Board (SSB) of the National Academies of Sciences\, Engineering\, and Medicine will hold its annual Space Science Week from March 23-25\, 2021 where all six of its standing committees meet in plenary and individual sessions. \nThe entire event is virtual due to the pandemic. \nAll the committees meet together in plenary session on March 23 from 11:00 am – 5:00 pm ET\, followed by a public lecture from 5:30-6:30 pm ET.  For 2021\, the public lecture topic is Climate Change as Seen From Space.  The speaker is Gavin Schmidt\, Acting Senior Climate Advisor\, NASA headquarters\, and Director of NASA’s Goddard Institute for Space Studies. \nThe agenda for the March 23 plenary session\, including the public lecture\, is on the SSB’s website. \nThe six committees will meet individually on March 24 and some also on March 25.  Some sessions are open and some are closed. \nSee individual SpacePolicyOnline.com calendar entries for those committees. \n\nCommittee on Astrobiology and Planetary Sciences (CAPS)\nCommittee on Astronomy and Astrophysics (CAA)\nCommittee on Biological and Physical Sciences in Space (CBPSS)\nCommittee on Earth Science and Applications from Space (CESAS)\nCommittee on Planetary Protection (CoPP)\nCommittee on Solar and Space Physics (CSSP)
URL:https://spacepolicyonline.com/events/space-science-week-natl-acad-mar-23-25-2021-virtual/
END:VEVENT
END:VCALENDAR