BEGIN:VCALENDAR
VERSION:2.0
PRODID:-//SpacePolicyOnline.com - ECPv6.15.11//NONSGML v1.0//EN
CALSCALE:GREGORIAN
METHOD:PUBLISH
X-WR-CALNAME:SpacePolicyOnline.com
X-ORIGINAL-URL:https://spacepolicyonline.com
X-WR-CALDESC:Events for SpacePolicyOnline.com
REFRESH-INTERVAL;VALUE=DURATION:PT1H
X-Robots-Tag:noindex
X-PUBLISHED-TTL:PT1H
BEGIN:VTIMEZONE
TZID:America/New_York
BEGIN:DAYLIGHT
TZOFFSETFROM:-0500
TZOFFSETTO:-0400
TZNAME:EDT
DTSTART:20200308T070000
END:DAYLIGHT
BEGIN:STANDARD
TZOFFSETFROM:-0400
TZOFFSETTO:-0500
TZNAME:EST
DTSTART:20201101T060000
END:STANDARD
BEGIN:DAYLIGHT
TZOFFSETFROM:-0500
TZOFFSETTO:-0400
TZNAME:EDT
DTSTART:20210314T070000
END:DAYLIGHT
BEGIN:STANDARD
TZOFFSETFROM:-0400
TZOFFSETTO:-0500
TZNAME:EST
DTSTART:20211107T060000
END:STANDARD
BEGIN:DAYLIGHT
TZOFFSETFROM:-0500
TZOFFSETTO:-0400
TZNAME:EDT
DTSTART:20220313T070000
END:DAYLIGHT
BEGIN:STANDARD
TZOFFSETFROM:-0400
TZOFFSETTO:-0500
TZNAME:EST
DTSTART:20221106T060000
END:STANDARD
END:VTIMEZONE
BEGIN:VEVENT
DTSTART;TZID=America/New_York:20210310T100000
DTEND;TZID=America/New_York:20210310T230000
DTSTAMP:20260419T230615
CREATED:20210308T212339Z
LAST-MODIFIED:20210308T213151Z
UID:42172-1615370400-1615417200@spacepolicyonline.com
SUMMARY:SPACE SWEEPERS: THE ADVENT OF DEBRIS REMOVAL BUSINESS AND NEED FOR SPACE NORMS (Stimson)\, Mar 10\, 2021\, virtual\, 10:00 am ET
DESCRIPTION:The Stimson Center will hold a webinar on March 10\, 2021 at 10:00 am ET on “Space Sweepers: The Advent of Debris Removal Business and Need for Space Norms” as this year’s Turtle Bay Security Roundtable\, an annual event sponsored by Stimson and the Permanent Mission of Japan to the United Nations. \nMore information is on the event’s website. \nParticipants are: \n\nAmbassador Ishikane Kimihiro\, Permanent Representative of Japan to the United Nations\nMs. Izumi Nakamitsu\, Under-Secretary-General and High Representative for Disarmament Affairs\, United Nations\nMr.  Nobu  Okada\, Founder and  CEO  of Astroscale\, and Vice President of the International Astronautical Federation and co-chair of the World Economic Forum’ s Global Future Council on Space\nBrian Finlay\, President & CEO\, the Stimson Center
URL:https://spacepolicyonline.com/events/space-sweepers-the-advent-of-debris-removal-business-and-need-for-space-norms-stimson-mar-10-2021-virtual-1000-am-et/
END:VEVENT
END:VCALENDAR