BEGIN:VCALENDAR
VERSION:2.0
PRODID:-//SpacePolicyOnline.com - ECPv6.15.11//NONSGML v1.0//EN
CALSCALE:GREGORIAN
METHOD:PUBLISH
X-WR-CALNAME:SpacePolicyOnline.com
X-ORIGINAL-URL:https://spacepolicyonline.com
X-WR-CALDESC:Events for SpacePolicyOnline.com
REFRESH-INTERVAL;VALUE=DURATION:PT1H
X-Robots-Tag:noindex
X-PUBLISHED-TTL:PT1H
BEGIN:VTIMEZONE
TZID:America/New_York
BEGIN:DAYLIGHT
TZOFFSETFROM:-0500
TZOFFSETTO:-0400
TZNAME:EDT
DTSTART:20180311T070000
END:DAYLIGHT
BEGIN:STANDARD
TZOFFSETFROM:-0400
TZOFFSETTO:-0500
TZNAME:EST
DTSTART:20181104T060000
END:STANDARD
BEGIN:DAYLIGHT
TZOFFSETFROM:-0500
TZOFFSETTO:-0400
TZNAME:EDT
DTSTART:20190310T070000
END:DAYLIGHT
BEGIN:STANDARD
TZOFFSETFROM:-0400
TZOFFSETTO:-0500
TZNAME:EST
DTSTART:20191103T060000
END:STANDARD
BEGIN:DAYLIGHT
TZOFFSETFROM:-0500
TZOFFSETTO:-0400
TZNAME:EDT
DTSTART:20200308T070000
END:DAYLIGHT
BEGIN:STANDARD
TZOFFSETFROM:-0400
TZOFFSETTO:-0500
TZNAME:EST
DTSTART:20201101T060000
END:STANDARD
END:VTIMEZONE
BEGIN:VEVENT
DTSTART;TZID=America/New_York:20190926T180000
DTEND;TZID=America/New_York:20190926T230000
DTSTAMP:20260422T184352
CREATED:20190920T142905Z
LAST-MODIFIED:20190925T160318Z
UID:29050-1569520800-1569538800@spacepolicyonline.com
SUMMARY:SPACE WEATHER AS A GLOBAL CHALLENGE 2019 (SWF/STATE DEPT)\, Sept 26\, 2019\, DC\, 6:00-8:30 pm ET
DESCRIPTION:On September 26\, 2019 from 6:00-8:30 pm ET\, the Secure World Foundation (SWF)  and the State Department will host an evening panel discussion:  Space Weather as a Global Challenge 2019. \nThe event immediately follows the day-long Next Step Space Weather Benchmarks Town Hall meeting sponsored by NASA and NSF. \nThe SWF/State Department even will take place at SWF’s offices\, 1779 Massachusetts Ave.\, NW\, Washington\, DC. \nSpeakers are: \n\nJean-Luc Bald\, First Secretary\, Space Global Issues & Innovation Section\, Delegation of the European Union to the United States of America\nJeff O’Neil\, Legislative Director\, Office of Congressman Ed Perlmutter (CO-07)\nGeoffrey Reevesm Research Fellow\, Los Alamos National Lab\nJosh Wolny\, Project Manager\, Secure World Foundation (moderator)\n\nMore information is on the event’s website. \n 
URL:https://spacepolicyonline.com/events/space-weather-as-a-global-challenge-2019-swf-state-dept-sept-26-2019-dc-600-830-pm-et/
END:VEVENT
END:VCALENDAR