BEGIN:VCALENDAR
VERSION:2.0
PRODID:-//SpacePolicyOnline.com - ECPv6.15.11//NONSGML v1.0//EN
CALSCALE:GREGORIAN
METHOD:PUBLISH
X-WR-CALNAME:SpacePolicyOnline.com
X-ORIGINAL-URL:https://spacepolicyonline.com
X-WR-CALDESC:Events for SpacePolicyOnline.com
REFRESH-INTERVAL;VALUE=DURATION:PT1H
X-Robots-Tag:noindex
X-PUBLISHED-TTL:PT1H
BEGIN:VTIMEZONE
TZID:America/New_York
BEGIN:DAYLIGHT
TZOFFSETFROM:-0500
TZOFFSETTO:-0400
TZNAME:EDT
DTSTART:20180311T070000
END:DAYLIGHT
BEGIN:STANDARD
TZOFFSETFROM:-0400
TZOFFSETTO:-0500
TZNAME:EST
DTSTART:20181104T060000
END:STANDARD
BEGIN:DAYLIGHT
TZOFFSETFROM:-0500
TZOFFSETTO:-0400
TZNAME:EDT
DTSTART:20190310T070000
END:DAYLIGHT
BEGIN:STANDARD
TZOFFSETFROM:-0400
TZOFFSETTO:-0500
TZNAME:EST
DTSTART:20191103T060000
END:STANDARD
BEGIN:DAYLIGHT
TZOFFSETFROM:-0500
TZOFFSETTO:-0400
TZNAME:EDT
DTSTART:20200308T070000
END:DAYLIGHT
BEGIN:STANDARD
TZOFFSETFROM:-0400
TZOFFSETTO:-0500
TZNAME:EST
DTSTART:20201101T060000
END:STANDARD
END:VTIMEZONE
BEGIN:VEVENT
DTSTART;TZID=America/New_York:20191009T080000
DTEND;TZID=America/New_York:20191011T230000
DTSTAMP:20260420T122528
CREATED:20191006T153135Z
LAST-MODIFIED:20191006T153135Z
UID:29493-1570608000-1570834800@spacepolicyonline.com
SUMMARY:SPACE WEEK 2019: BEYOND THE HORIZON\, Oct 9-11\, 2019\, Rome\, Italy
DESCRIPTION:Space Week 2019: Beyond the Horizon will take place October 9-11\, 2019 at the headquarters of the Italian space agency — Agenzia Spaziale Italiana (ASI) in Rome\, Italy.  Is describes itself as “the international conference dedicated to space access and services technologies.” \nMore information is on the event’s website. \n 
URL:https://spacepolicyonline.com/events/space-week-2019-beyond-the-horizon-oct-9-11-2019-rome-italy/
END:VEVENT
END:VCALENDAR