BEGIN:VCALENDAR
VERSION:2.0
PRODID:-//SpacePolicyOnline.com - ECPv6.15.11//NONSGML v1.0//EN
CALSCALE:GREGORIAN
METHOD:PUBLISH
X-WR-CALNAME:SpacePolicyOnline.com
X-ORIGINAL-URL:https://spacepolicyonline.com
X-WR-CALDESC:Events for SpacePolicyOnline.com
REFRESH-INTERVAL;VALUE=DURATION:PT1H
X-Robots-Tag:noindex
X-PUBLISHED-TTL:PT1H
BEGIN:VTIMEZONE
TZID:America/New_York
BEGIN:DAYLIGHT
TZOFFSETFROM:-0500
TZOFFSETTO:-0400
TZNAME:EDT
DTSTART:20210314T070000
END:DAYLIGHT
BEGIN:STANDARD
TZOFFSETFROM:-0400
TZOFFSETTO:-0500
TZNAME:EST
DTSTART:20211107T060000
END:STANDARD
BEGIN:DAYLIGHT
TZOFFSETFROM:-0500
TZOFFSETTO:-0400
TZNAME:EDT
DTSTART:20220313T070000
END:DAYLIGHT
BEGIN:STANDARD
TZOFFSETFROM:-0400
TZOFFSETTO:-0500
TZNAME:EST
DTSTART:20221106T060000
END:STANDARD
BEGIN:DAYLIGHT
TZOFFSETFROM:-0500
TZOFFSETTO:-0400
TZNAME:EDT
DTSTART:20230312T070000
END:DAYLIGHT
BEGIN:STANDARD
TZOFFSETFROM:-0400
TZOFFSETTO:-0500
TZNAME:EST
DTSTART:20231105T060000
END:STANDARD
END:VTIMEZONE
BEGIN:VEVENT
DTSTART;TZID=America/New_York:20220713T200000
DTEND;TZID=America/New_York:20220713T230000
DTSTAMP:20260425T204844
CREATED:20220604T123141Z
LAST-MODIFIED:20220713T180553Z
UID:53877-1657742400-1657753200@spacepolicyonline.com
SUMMARY:SpX-25 PRE-LAUNCH BRIEFING\, July 13\, 2022\, KSC\, 8:00 pm ET
DESCRIPTION:Update\, July 13: The participant list has been updated. \n\nDana Weigel\, deputy program manager\, International Space Station Program\, NASA\nHeidi Parris\, associate scientist\, International Space Station Program\, NASA\nBenjamin Reed\, senior director\, human spaceflight programs\, SpaceX\nLaunch weather officer Brian Cizek\, Cape Canaveral Space Force Station’s 45th Weather Squadron\n\nUpdate\, July 8: The launch has been rescheduled for July 14 at 8:44 pm ET. \nThe pre-launch briefing is on July 13 at 8:00 pm ET.  NASA’s press release says it will air on NASA Live. \nParticipants are: \n\nDana Weigel\, deputy program manager\, International Space Station Program\, NASA\nHeidi Parris\, associate scientist\, International Space Station Program\, NASA\nSpaceX representative\nLaunch weather officer representative\, Cape Canaveral Space Force Station’s 45th Weather Squadron\n\nSee our separate calendar entries for the pre-launch science briefing\, the post-launch briefing and NASA TV coverage of launch and docking. \nUpdate\, June 6:  The launch has been postponed. \nOriginal Entry: NASA and SpaceX will hold a pre-launch briefing for the SpX-25 cargo mission to the ISS on June 9\, 2022 at 3:30 pm ET. The launch is scheduled for the next day\, June 10\, at 10:22 am ET. \nParticipants in the pre-launch briefing at Kennedy Space Center are: \n\nJoel Montalbano\, manager\, International Space Station Program\, NASA\nDr. Kirt Costello\, chief scientist\, International Space Station Program\, NASA\nBenji Reed\, senior director\, Human Spaceflight Programs\, SpaceX\nArlena Moses\, launch weather officer\, Cape Canaveral Space Force Station’s 45th Weather Squadron\n\nIt will air on NASA Television\, the NASA app\, and the agency’s website.
URL:https://spacepolicyonline.com/events/spx-25-pre-launch-briefing-june-9-2022-ksc-330-pm-et/
END:VEVENT
END:VCALENDAR