BEGIN:VCALENDAR
VERSION:2.0
PRODID:-//SpacePolicyOnline.com - ECPv6.15.11//NONSGML v1.0//EN
CALSCALE:GREGORIAN
METHOD:PUBLISH
X-WR-CALNAME:SpacePolicyOnline.com
X-ORIGINAL-URL:https://spacepolicyonline.com
X-WR-CALDESC:Events for SpacePolicyOnline.com
REFRESH-INTERVAL;VALUE=DURATION:PT1H
X-Robots-Tag:noindex
X-PUBLISHED-TTL:PT1H
BEGIN:VTIMEZONE
TZID:America/New_York
BEGIN:DAYLIGHT
TZOFFSETFROM:-0500
TZOFFSETTO:-0400
TZNAME:EDT
DTSTART:20220313T070000
END:DAYLIGHT
BEGIN:STANDARD
TZOFFSETFROM:-0400
TZOFFSETTO:-0500
TZNAME:EST
DTSTART:20221106T060000
END:STANDARD
BEGIN:DAYLIGHT
TZOFFSETFROM:-0500
TZOFFSETTO:-0400
TZNAME:EDT
DTSTART:20230312T070000
END:DAYLIGHT
BEGIN:STANDARD
TZOFFSETFROM:-0400
TZOFFSETTO:-0500
TZNAME:EST
DTSTART:20231105T060000
END:STANDARD
BEGIN:DAYLIGHT
TZOFFSETFROM:-0500
TZOFFSETTO:-0400
TZNAME:EDT
DTSTART:20240310T070000
END:DAYLIGHT
BEGIN:STANDARD
TZOFFSETFROM:-0400
TZOFFSETTO:-0500
TZNAME:EST
DTSTART:20241103T060000
END:STANDARD
END:VTIMEZONE
BEGIN:VEVENT
DTSTART;TZID=America/New_York:20230109T163000
DTEND;TZID=America/New_York:20230109T230000
DTSTAMP:20260422T095420
CREATED:20221231T222411Z
LAST-MODIFIED:20221231T222411Z
UID:59072-1673281800-1673305200@spacepolicyonline.com
SUMMARY:SpX-26 CARGO SHIP UNDOCKS FROM ISS\, Jan 9\, 2023\, Earth orbit\, 5:05 pm ET
DESCRIPTION:SpaceX’s 26th cargo mission to the International Space Station will undock on January 9\, 2023 at 5:05 pm ET. \nNASA TV will cover undocking and departure beginning at 4:45 pm ET on NASA Television\, the NASA app\, and the agency’s website. \nNASA does not provide coverage of reentry or splashdown of these cargo missions. It says only that splashdown is scheduled for January 11.
URL:https://spacepolicyonline.com/events/spx-26-cargo-ship-undocks-from-iss-jan-9-2023-earth-orbit-505-pm-et/
END:VEVENT
END:VCALENDAR