BEGIN:VCALENDAR
VERSION:2.0
PRODID:-//SpacePolicyOnline.com - ECPv6.15.11//NONSGML v1.0//EN
CALSCALE:GREGORIAN
METHOD:PUBLISH
X-WR-CALNAME:SpacePolicyOnline.com
X-ORIGINAL-URL:https://spacepolicyonline.com
X-WR-CALDESC:Events for SpacePolicyOnline.com
REFRESH-INTERVAL;VALUE=DURATION:PT1H
X-Robots-Tag:noindex
X-PUBLISHED-TTL:PT1H
BEGIN:VTIMEZONE
TZID:America/New_York
BEGIN:DAYLIGHT
TZOFFSETFROM:-0500
TZOFFSETTO:-0400
TZNAME:EDT
DTSTART:20200308T070000
END:DAYLIGHT
BEGIN:STANDARD
TZOFFSETFROM:-0400
TZOFFSETTO:-0500
TZNAME:EST
DTSTART:20201101T060000
END:STANDARD
BEGIN:DAYLIGHT
TZOFFSETFROM:-0500
TZOFFSETTO:-0400
TZNAME:EDT
DTSTART:20210314T070000
END:DAYLIGHT
BEGIN:STANDARD
TZOFFSETFROM:-0400
TZOFFSETTO:-0500
TZNAME:EST
DTSTART:20211107T060000
END:STANDARD
BEGIN:DAYLIGHT
TZOFFSETFROM:-0500
TZOFFSETTO:-0400
TZNAME:EDT
DTSTART:20220313T070000
END:DAYLIGHT
BEGIN:STANDARD
TZOFFSETFROM:-0400
TZOFFSETTO:-0500
TZNAME:EST
DTSTART:20221106T060000
END:STANDARD
END:VTIMEZONE
BEGIN:VEVENT
DTSTART;TZID=America/New_York:20210324T070000
DTEND;TZID=America/New_York:20210325T230000
DTSTAMP:20260420T033122
CREATED:20210313T182328Z
LAST-MODIFIED:20210313T182328Z
UID:42272-1616569200-1616713200@spacepolicyonline.com
SUMMARY:SSB/BPA CMTE ON ASTRONOMY AND ASTROPHYSICS (Natl Acad)\, Mar 24-25\, 2021\, virtual\, 11:30 am ET
DESCRIPTION:The Committee on Astronomy and Astrophysics (CAA) of the Space Studies Board (SSB) and the Board on Physics and Astronomy (BPA) of the National Academies of Sciences\, Engineering\, and Medicine will meet virtually March 24-25\, 2021.  Some sessions are open and some are closed. \nOpen sessions on March 24 are 11:30 am – 3:00 pm ET and on March 25 are 11:30 am – 1:15 pm ET. \nThe meeting is part of SSB’s Space Science Week\, March 23-25\, 2021\, where all six of SSB’s standing committees\, some of which are sponsored by other Boards as well\, meet in plenary and individual sessions.  The plenary session is on March 23. \nMore information is on the committee’s website.
URL:https://spacepolicyonline.com/events/ssb-bpa-cmte-on-astronomy-and-astrophysics-natl-acad-mar-24-25-2021-virtual-1130-am-et/
END:VEVENT
END:VCALENDAR